Workbook

Sheet choices
A1: list_name | B1: name | C1: label | D1: stata | E1: kinya | F1: image | G1: filter
A2: why_not_hhh | B2: 1 | C2: =E2&" ("&D2&")" -> Amazina dufite yanditse nabi (spelling mistake in preloaded data) | D2: spelling mistake in preloaded data | E2: Amazina dufite yanditse nabi
A3: why_not_hhh | B3: 2 | C3: =E3&" ("&D3&")" -> HHH yitabye Imana (HHH deceased) | D3: HHH deceased | E3: HHH yitabye Imana
A4: why_not_hhh | B4: 3 | C4: =E4&" ("&D4&")" -> Amazina dufite ntaho ahuriye n'izina rye (completely wrong name in preloaded data) | D4: completely wrong name in preloaded data | E4: Amazina dufite ntaho ahuriye n'izina rye
A5: why_not_hhh | B5: 4 | C5: =E5&" ("&D5&")" -> Yatanye/yatandukanye n'uwo bari barashakanye (previous HH divorced and divided) | D5: previous HH divorced and divided | E5: Yatanye/yatandukanye n'uwo bari barashakanye
A6: why_not_hhh | B6: 5 | C6: =E6&" ("&D6&")" -> Iri zina ni iry'undi munyamuryango w'uru rugo (This Name is Someone Else on the HH Roster) | D6: This Name is Someone Else on the HH Roster | E6: Iri zina ni iry'undi munyamuryango w'uru rugo
A7: yes_no | B7: 1 | C7: =E7&" ("&D7&")" -> Yego (Yes) | D7: Yes | E7: Yego
A8: yes_no | B8: 0 | C8: =E8&" ("&D8&")" -> Oya (No) | D8: No | E8: Oya
A9: yes_no | B9: -66 | C9: -66 | D9: refuse to answer
A10: yes_no | B10: -88 | C10: -88 | D10: don't know
A11: supervisor | B11: 1 | C11: GISELLE | D11: =C11 -> GISELLE
A12: supervisor | B12: 2 | C12: HASAN | D12: =C12 -> HASAN
A13: supervisor | B13: 3 | C13: JEAN DE DIEU | D13: =C13 -> JEAN DE DIEU
A14: supervisor | B14: 4 | C14: MESHACK | D14: =C14 -> MESHACK
A15: sex | B15: 1 | C15: Male | D15: =C15 -> Male
A16: sex | B16: 2 | C16: Female | D16: =C16 -> Female
A17: relationship_to_hhh | B17: 1 | C17: =E17&" ("&D17&")" -> HHH (HHH) | D17: HHH | E17: HHH
A18: relationship_to_hhh | B18: 2 | C18: =E18&" ("&D18&")" -> Umufasha wa HHH (Spouse of HHH) | D18: Spouse of HHH | E18: Umufasha wa HHH
A19: relationship_to_hhh | B19: 3 | C19: =E19&" ("&D19&")" -> Umuhungu/Umukobwa (Son/Daughter) | D19: Son/Daughter | E19: Umuhungu/Umukobwa
A20: relationship_to_hhh | B20: 4 | C20: =E20&" ("&D20&")" -> Umubyeyi (Parent) | D20: Parent | E20: Umubyeyi
A21: relationship_to_hhh | B21: 5 | C21: =E21&" ("&D21&")" -> Umuvandimwe wanjye (Sibling) | D21: Sibling | E21: Umuvandimwe wanjye
A22: relationship_to_hhh | B22: 6 | C22: =E22&" ("&D22&")" -> abandi mufite ikyo mufana (other relative) | D22: other relative | E22: abandi mufite ikyo mufana
A23: relationship_to_hhh | B23: 7 | C23: =E23&" ("&D23&")" -> ntasano (no relation) | D23: no relation | E23: ntasano
A24: relationship_to_hhh | B24: -66 | C24: -66 | D24: refuse to answer
A25: relationship_to_hhh | B25: -88 | C25: -88 | D25: don't know
A26: hh_roster | B26: 1 | C26: ${hh_member_1} | D26: HH Member 1 | G26: 1
A27: hh_roster | B27: 2 | C27: ${hh_member_2} | D27: HH Member 2 | G27: 2
A28: hh_roster | B28: 3 | C28: ${hh_member_3} | D28: HH Member 3 | G28: 3
A29: hh_roster | B29: 4 | C29: ${hh_member_4} | D29: HH Member 4 | G29: 4
A30: hh_roster | B30: 5 | C30: ${hh_member_5} | D30: HH Member 5 | G30: 5
A31: hh_roster | B31: 6 | C31: ${hh_member_6} | D31: HH Member 6 | G31: 6
A32: hh_roster | B32: 7 | C32: ${hh_member_7} | D32: HH Member 7 | G32: 7
A33: hh_roster | B33: 8 | C33: ${hh_member_8} | D33: HH Member 8 | G33: 8
A34: hh_roster | B34: 9 | C34: ${hh_member_9} | D34: HH Member 9 | G34: 9
A35: hh_roster | B35: 10 | C35: ${hh_member_10} | D35: HH Member 10 | G35: 10
A36: hh_roster | B36: 11 | C36: ${hh_member_11} | D36: HH Member 11 | G36: 11
A37: hh_roster | B37: 12 | C37: ${hh_member_12} | D37: HH Member 12 | G37: 12
... A49: hh_roster | B49: 24 | C49: ${hh_member_24} | D49: HH Member 24 | G49: 24
A50: area_units | B50: 1 | C50: hectares | D50: hectares
A51: area_units | B51: 2 | C51: ares | D51: ares
...

Sheet settings
A1: form_title | B1: form_id | C1: version | D1: public_key | E1: submission_url | F1: default_language
A2: Follow Up 3 - Version 26 | B2: FUP3_v26 | C2: 231014 | F2: english

Sheet House
A1: Question Number | B1: Question (Eng) | C1: Question (Kinya) | D1: type | E1: Answer Choices | F1: Skip | G1: Special instruction | H1: To-Do | I1: Roster (English) | J1: Roster (Kinya) | K1: name | L1: label | M1: stata label | N1: required | O1: hint | P1: appearance | Q1: constraint | R1: constraint message | S1: relevance | T1: calculation | U1: repeat_count | V1: default | W1: disabled | X1: read only | Y1: media:image | Z1: media:audio | AA1: media:video
A2: Module K: Housing
A3: HH_01 | B3: How long has your household inhabited this dwelling? | C3: Aha hantu urugo rwanyu ruhamaze igihe kingana iki? | D3: select_one hh_long | E3: Hashize amezi ari hasi y’atandatu Hagati y'amezi 6 n'amezi 12 Hagati y'umwaka n'imyaka 5 Hagati y'imyaka 5 n'imyaka 10 Kuva ku myaka 10 kuzamura
A4: HH_02 | B4: What is the main construction material of the walls of your house? | C4: Inkuta z'inzu zubakishije ibihe bikoresho by'ubwubatsi by’ibanze? yanyu? | D4: select_one hh_walls or_other | E4: Rukarakara Amatafari ahiye Umucanga na sima n’ibiti bishinze Umucanga utarimo sima n’ibiti bishinze Ibiti bishinze n’imbingo Sima/Beto/Amatafari ya sima Ikindi
A5: HH_03 | B5: What is the main material used for the floors of the dwelling? | C5: Ni ibihe bikoresho by’ibanze bishashe hasi mu nzu mutuyemo? | D5: select_one hh_floors or_other | E5: ibyondo/itaka/umucanga Ibumba Sima/Beto Ikindi
A6: HH_04 | B6: What is the primary source of drinking water for your household? | C6: Ni hehe ahantu h’ibanze urugo rwanyu rukura amazi yo kunywa? | D6: select_one source_drinking or_other | E6: Robine iri mu nzu / mu rugo Robine rusange/Ivomo rusange Iriba ritunganyije Iriba ridatunganyije Isoko itunganije Isoko idatunganyijwe Amazi ashoka (uruzii/ikiyaga/umugezi/Amazi akoreshwa mu kuhira) Ikindi
A7: HH_05 | B7: How many minutes does it take you to reach the primary water source? | C7: Bibafata iminota ingana ite kugira ngo mugere aho muvoma amazi? | D7: integer
A8: HH_06 | B8: What type of toilet facility does your household use? | C8: Ni ubuhe bwoko bw’umusarani urugo rwanyu rukoresha? | D8: select_one toilet or_other | E8: Umusarani w’umwobo usanzwe Umwobo utubakiye ( Nta nkuta) Umusarani usukurwa n'amazi Ikindi
A9: HH_07 | B9: What is the main source of lighting? | C9: Ni izihe ngufu z’ingenzi zitanga urumuri mukoresha? | D9: select_one lighting or_other | E9: Amashanyarazi Itara rya peterori Itadowa Ingufu zikomoka ku mirasire y’izuba Itoroshi biyogazi Ikindi
A10: HH_08 | B10: What is the main source of cooking fuel? | C10: Ni izihe ngufu z’ingenzi mukoresha mu guteka? | D10: select_one cooking_fuel or_other | E10: Inkwi Amakara Gazi Biyogazi ingufu zikomoka ku mirasire y'izuba Amashanyarazi Ibisigazwa by'ibihingwa Ibisheshe by'amase Ikindi

Sheet Farmer Groups
A1: Question Number | B1: Question (Eng) | C1: Question (Kinya) | D1: type | E1: Answer Choices | F1: Skip | G1: Special instruction | H1: To-Do | I1: Roster (English) | J1: Roster (Kinya) | K1: name | L1: label | M1: stata label | N1: required | O1: hint | P1: appearance | Q1: constraint | R1: constraint message | S1: relevance | T1: calculation | U1: repeat_count | V1: default | W1: disabled | X1: read only | Y1: media:image | Z1: media:audio | AA1: media:video
A2: Module L: Farmer Groups
A3: GR_02_confirm | B3: Last time we visited, you said you were a part of LWH Group ${GR_02}. Is this information still correct? | C3: ubwanyuma twagusuye watubwe ko wari uri mwitsinda rya LWH ${GR_02}. Ibi nibyo? | D3: select_one yes_no | F3: YES, skip to GR_10_T
A4: GR_02_corrected | B4: What is the name of the LWH group? | C4: Ni irihe zina ry'itsinda rya LWH? | D4: select_one LWH_group_names | E4: [list of lwh group names]
A5: GR_10_T | B5: Did any HH member attend a meeting or a training with your LWH farmer self-help group during Season B 2013? | C5: Hari umuntu wo muri uru rugo wagiye mu nama cyangwa mu mahugurwa n'iri shyirahamwe mu gihe cy'igihembwe cy'ihinga B 2013? | D5: select_one yes_no | F5: if NO then skip to GR_AA | G5: ask only for treatment
A6: GR_10_C | B6: Did any HH member attend a meeting or a training with a farmer group during Season B 2013? | C6: Hari umuntu wo muri uru rugo wagiye mu nama cyangwa mu mahugurwa n'iri shyirahamwe mu gihe cy'igihembwe cy'ihinga B 2013? | D6: select_one yes_no | F6: if NO then skip to GR_AA | G6: ask only for control
A7: GR_11 | B7: How many meetings or trainings did your HH participate in with this farmer group during Season B 2013? | C7: Uwo muntu wanyu yagiye mu nama zingahe cg amahugurwa angahe n'iri shyirahamwe mu gihe cy'igihembwe cy'ihinga B 2013? | D7: integer
A8: GR_13 | B8: What was the total amount of fees paid to the farmer group for the season B 2013? | C8: Amafaranga yarishywe muri iryo shyirahamwe ry'abahinzi mu gihembwe cy'ihinga B 2013 angana ate? | D8: integer
A9: GR_AA | B9: Is anyone in your house a member of an agricultural cooperative? | C9: haba hari undi mutu mubana uri umunyamurwango wa coperative yabahinzi? | D9: select_one yes_no | F9: if NO then skip to GR_27
A10: GR_16 | B10: Which cooperative? | C10: Ni iyihe koperative? | D10: select_one cooperatives or_other | E10: koabikaru (Karongi 12) koabimuru (Karongi 13) koainya (Nyanza 23) koaiga (Gatsibo 8)
A11: GR_18 | B11: Who in the HH is a member of the cooperative? | C11: Ni nde uri muri iyo koperative muri uru rugo? | D11: select_one hh_roster_complete
A12: GR_23 | B12: Did any HH member attend a meeting or a training held by the cooperative during Season B 2013? Note to enumerator: If HH belongs to more than one cooperative, ask them to report on the one in which they are most active. | C12: Hari umuntu wo muri uru rugo wagiye mu nama cyangwa mu mahugurwa n'iyi koperative mu gihe cy'igihembwe cy'ihinga B 2013? | D12: select_one yes_no | F12: if 2 then skip to GR_25
A13: GR_24 | B13: How many meetings or trainings did your HH participate in with this cooperative during Season B 2013? | C13: Uwo muntu wanyu yagiye mu nama zingahe cg amahugurwa angahe n'iyi koperative mu gihe cy'igihembwe cy'ihinga B 2013? | D13: integer
A14: GR_25 | B14: Did your HH pay any fees to be a part of this cooperative during Season B 2013, such as membership or contribution fees? | C14: Hari amafaranga yarishywe n'uwo muntu wanyu mu gihembwe cy'ihinga B 2013? Urugero nk'amafaranga y'umunyamuryango, umusanzu. | D14: select_one yes_no | F14: if 2 then skip to GR_27
A15: GR_26 | B15: What was the total amount of fees paid to the cooperative for the Season B 2013? | C15: Amafaranga yarishywe muri iyo koperative mu gihembwe cy'ihinga B 2013 angana ate? | D15: integer
A16: GR_27 | B16: Is anyone in your household a member of a water users association (WUA) or any other irrigation-related group? | C16: Muri uru rugo, hari umuntu mufite nk'umunyamuryango w'ishyirahamwe ry'abakoresha amazi cyangwa irindi shyirahamwe rijyanye no kuhira imyaka? | D16: select_one yes_no | F16: If 2 then skip to next section
A17: GR_28 | B17: Which water user association? | C17: Iryo shyirahamwe ni irihe? | D17: select_one water_user_associations or_other | E17: Koperative (Cooperative) Ishyirahamwe ry’abakoresha amazi (Water User Association) Itsinda ry’ubwisungane (Self-help group) Urugo ubwarwo (Household)
A18: GR_29 | B18: Who in the HH is a member of the water user association? | C18: Muri uru rugo ni nde munyamuryango w'ishyirahamwe ry'abakoresha amazi? | D18: select_one hh_roster_complete
A19: GR_34 | B19: Did any HH member attend a meeting or a training held by the water user association during Season B 2013? | C19: Hari umuntu wo muri uru rugo wagiye mu nama cyangwa mu mahugurwa y'iri shyirahamwe mu gihe cy'igihembwe cy'ihinga B 2013? | D19: select_one yes_no | F19: If 2 then skip to GR_36
A20: GR_35 | B20: How many meetings or trainings did your HH participate in with this water user association during Season B 2013? | C20: Uwo muntu wanyu yagiye mu nama zingahe cg amahugurwa angahe y'iri shyirahamwe mu gihe cy'igihembwe cy'ihinga B 2013? | D20: integer
A21: GR_36 | B21: Did your HH pay any fees to be a part of this water user association during Season B 2013, such as maintenance or contribution fees? | C21: Hari amafaranga uwo muntu wanyu yarishye muriryo shyirahamwe mu gihembwe cy'ihinga B 2013? Urugero nk'amafaranga y'ivugurura ry'ibikoresho, umusanzu. | D21: select_one yes_no | F21: If 2 then skip to next section
A22: GR_37 | B22: What was the total amount of fees paid to the water user association during Season B 2013? | C22: Amafaranga yarishywe muri iryo shyirahamwe ry'abakoresha amazi mu gihembwe cy'ihinga B 2013 angana ate? | D22: integer

Sheet EX 2
A1: Question Number | B1: Question (Eng) | C1: Question (Kinya) | D1: type | E1: Answer Choices | F1: Skip | G1: Special instruction | H1: stata label | I1: required | J1: hint | K1: appearance | L1: constraint | M1: constraint message | N1: relevance | O1: calculation | P1: repeat_count | Q1: default | R1: disabled | S1: read only | T1: media:image | U1: media:audio | V1: media:video
A2: Module M: Extension 2
A3: 1. Tubura
A4: EX_12 | B4: Have you ever felt dissatisfied with the training or services you receive from TUBURA? | C4: Wigeze wumva utanogewe n'ireme ry'amahugurwa na za servisi wahawe na TUBURA | D4: select_one yes_no | F4: If NO, skip to EX_17
A5: EX_13 | B5: What sort of problem did you experience? | C5: Ni ubuhe bwoko bw'ikibazo wahuye na cyo? | D5: select_multiple FO_problems or_other | E5: Umukozi ubishinzwe yakererewe inama (FO late for meetings) ubishinzwe yasibye inama ziterana 2 mu cyumweru (FO absent for biweekly meetings) Umukozi ubishinzwe yanyanganyije abanyamuryango (FO stealing from members) Umukozi ubishinzwe nta kinyabupfura afite (FO rude) Umukozi ubishinzwe yasabye amafaranga inshuro nyinshi nta mahugurwa (Inyigisho) atangwa (FO asking for repayment repeatedly without training) Umukozi ubishinzwe yatanze amahugurwa (Inyigisho) adafite ireme na mba (FO training but not teaching anything useful) Umukozi ubishinzwe ntajya akurikirana ibibazo by'abahinzi mu mrima yabo (FO not following up in field when farmers have agricultural challenges)
A6: EX_14 | B6: Did you report your problem or dissatisfaction to TUBURA? | C6: Icyo kibazo cyangwa iyo nenge wabimenyesheje TUBURA? | D6: select_one yes_no
A7: EX_15 | B7: Did TUBURA make an effort to address your problem? | C7: TUBURA yagerageje kuguha gisubizo? | D7: select_one yes_no
A8: EX_16 | B8: Are you satisfied with the way your problem was addressed? | C8: Wanyuzwe n'uburyo ikibazo cyawe cyakemutse? | D8: select_one yes_no
A9: EX_17 | B9: If in the future your TUBURA FO was late or absent from meetings, what would you do? | C9: Mubihe byimbere bizaza umukozi wa TUBURA aramutse akererewe mu inama cyangwa ntayitabire, urumva wazakora iki? | D9: select_one future_tubura_problems or_other | E9: Ntugire icyo ukora (Do nothing) Bivuganaho n'incuti/umuryango (Complain/discuss with friends/family) Bwira Umukozi mukuru wa TUBURA ko utanyuzwe (Tell TUBURA FO ) Bwira Umugenzuzi wabakozi ba TUBURA ko utanyuzwe (Tell TUBURA FO's supervisor) Bwira umuyobozi w'inzego z'ibanze ko utanyuzw (Tell local leader or government representative (non-LWH) ) kubwira agronome wa LWH (Tell LWH agronomist) Hagarika kwishyura no kwitabira amahugurwa/inama (Stop paying for TUBURA and stop attending trainings/meetings) Komeza kwishyura TUBURA ariko uhagarike kwitabira amahugurwa/inama (Continue paying but stop attending trainings/meetings)
A10: EX_18 | B10: If in the future the TUBURA FO asked for repayment repeatedly without providing training, what would you do? | C10: Mubihe byimbere bizaza, umukozi wa TUBURA aramutse akomeza kuza kuwishyuje inshuro nyinshi nta mahugurwa atanga, wumva wazakora iki? | D10: select_one future_tubura_problems
A11: EX_19 | B11: If in the future the TUBURA FO was providing trainings but the information provided was not useful, what would you do? | C11: Mubihe byimbere bizaza,umukozi wa TUBURA aramutse abahaye amahugurwa ariko inyigisho atanga ntizigire icyo zibamarira, wumva wakora iki? | D11: select_one future_tubura_problems or_other
A12: EX_20 | B12: If in the future the TUBURA FO did not follow up on your field when you faced agricultural challenges, what would you do? | C12: Mubihe byimbere bizaza, umukozi wa TUBURA atarakurikiranye ibibazo byo mu buhinzi wari ufite, wumva wazakora iki ubutaha? | D12: select_one future_tubura_problems or_other
A13: EX_21 | B13: What do you think would happen if you told TUBURA you were dissatisfied with the training or services it is providing? | C13: Nizihe mpinduka ukeka ko zari kubaho iyo uramuka ubwiye Tubura ko utishimiye inyigisho cyangwa serivisi ibagezaho? | D13: select_one tubura_dissatisfaction or_other | E13: TUBURA yari kugerageza kunoza serivisi zayo (TUBURA would try to improve its services) TUBURA nta cyo yari guhindura kuri serivisi zayo/ nta cyari guhinduka (TUBURA would not change its services/nothing would happen) Umukozi mukuru wa TUBURA ntiyari kubyishimira /yari kumfata nabi (TUBURA FO would be upset that I complained/would treat me poorly)
A14: EX_22 | B14: Do you plan to remain a TUBURA client in Season B 2014? | C14: Urumva uteganya gukomeza kuba umunyamuryango wa TUBURA mu gihembwe cy'ihinga A 2013? | D14: select_one yes_no
A15: EX_43 | B15: According to our data you are no longer a member of Tubera. Is this correct? | C15: amakuru dufite nukiri umunyamuryango wa Tubura. Ibi nibyo? | D15: select_one yes_no | F15: If NO skip to EX_24
A16: EX_23 | B16: Why not? | C16: Kubera iki utakomeza? | D16: select_one why_not_in_tubera or_other | E16: Irahenda (Too expensive) Amahugurwa nta gaciro afite (Training not useful)
A17: EX_24 | B17: Would you recommend TUBURA to a friend or family member? | C17: Hari incuti cyangwa umuvandimwe warangira TUBURA? | D17: select_one yes_no
A18: 2. Trainings
A19: EX_25 | B19: Did you plant maize in Season B 2013? | C19: Wahinze ibigori mu gihembwe cy'ihinga B 2013? | D19: select_one yes_no | F19: if NO skip to EX_29
A20: EX_26 | B20: What should be the distance between the rows for maize? (cm) | C20: Ku bigori, umwanya usigara hagati y'imirongo wagombye kungana ute? (cm) | D20: integer
A21: EX_28 | B21: What is the correct amount of chemical fertilizer (DAP or NPK) that you needed to use for maize? | C21: Ni ikihe gipimo gikwiye cy'ifumbire mvaruganda (DAP cg NPK) wari ukeneye gukoresha mu bigori byawe? | D21: select_one input_amount or_other | E21: Intoki eshatu ugeza mu cya kabiri cy'ikiganza (Three fingers to just half the finger) Intoki ebyiri ugarukira ku murongo wa mbere w'ikiganza (Two fingers to first finger line) intoki eshatu ugeza ku murongo wa kabiri w'ikiganza - inshuro ebyiri (Three fingers to the second finger line - two times) nta gipimo cy'Ifumbire inyongeramusaruro gisabwa (No fertilizer recommendation)
A22: EX_29 | B22: Did you plant beans in Season B 2013? | C22: Wahinze ibishyimbo mu gihembwe cy'ihinga B 2013? | D22: select_one yes_no | F22: if NO skip to EX_32
A23: EX_30 | B23: What should be the distance between the rows for beans? (cm) | C23: Ku bishyimbo, umwanya usigara hagati y'imirongo wagombye kungana ute? (cm) | D23: integer
A24: EX_31 | B24: What is the correct amount of chemical fertilizer (DAP or NPK) that you needed to use for beans? | C24: Ni ikihe gipimo gikwiye cy'ifumbire mvaruganda (DAP cg NPK) wari ukeneye gukoresha mu bishyimbo byawe? | D24: select_one input_amount or_other | E24: Intoki eshatu ugeza mu cya kabiri cy'ikiganza (Three fingers to just half the finger) Intoki ebyiri ugarukira ku murongo wa mbere w'ikiganza (Two fingers to first finger line) intoki eshatu ugeza ku murongo wa kabiri w'ikiganza - inshuro ebyiri (Three fingers to the second finger line - two times) nta gipimo cy'Ifumbire inyongeramusaruro gisabwa (No fertilizer recommendation)
A25: EX_32 | B25: Did you plant potatoes in Season B 2013? | C25: Wahinze ibirayi mu gihembwe cy'ihinga B 2013? | D25: select_one yes_no | F25: if NO skip to EX_B_1
A26: EX_33 | B26: What should be the distance between the rows for potatoes? (cm) | C26: Ku birayi, umwanya usigara hagati y'imirongo wagombye kungana ute? (cm) | D26: integer
A27: EX_34 | B27: What is the correct amount of chemical fertilizer (DAP or NPK) that you needed to use for potatoes? | C27: Ni ikihe gipimo gikwiye cy'ifumbire mvaruganda (DAP cg NPK) wari ukeneye gukoresha mu birayi byawe? | D27: select_one input_amount or_other | E27: Intoki eshatu ugeza mu cya kabiri cy'ikiganza (Three fingers to just half the finger) Intoki ebyiri ugarukira ku murongo wa mbere w'ikiganza (Two fingers to first finger line) intoki eshatu ugeza ku murongo wa kabiri w'ikiganza - inshuro ebyiri (Three fingers to the second finger line - two times) nta gipimo cy'Ifumbire inyongeramusaruro gisabwa (No fertilizer recommendation)
A28: EX_B_1 | B28: Did you plant climbing beans in Season B 2013? | C28: Wahinze ibirayi mu gihembwe cy'ihinga B 2013? | D28: select_one yes_no | F28: If NO skip to EX_B_4
A29: EX_B_2 | B29: What should be the distance between the rows for climbing beans? (cm) | C29: Ku birayi, umwanya usigara hagati y'imirongo wagombye kungana ute? | D29: integer
A30: EX_B_3 | B30: What is the correct amount of chemical fertilizer (DAP or NPK) that you needed to use for climbing beans? | C30: Ni ikihe gipimo gikwiye cy'ifumbire mvaruganda (DAP cg NPK) wari ukeneye gukoresha mu birayi byawe? | D30: select_one input_amount or_other | E30: Intoki eshatu ugeza mu cya kabiri cy'ikiganza (Three fingers to just half the finger) Intoki ebyiri ugarukira ku murongo wa mbere w'ikiganza (Two fingers to first finger line) intoki eshatu ugeza ku murongo wa kabiri w'ikiganza - inshuro ebyiri (Three fingers to the second finger line - two times) nta gipimo cy'Ifumbire inyongeramusaruro gisabwa (No fertilizer recommendation)
A31: EX_B_4 | B31: Did you plant peas in Season B 2013? | C31: Wahinze ibirayi mu gihembwe cy'ihinga B 2013? | D31: select_one yes_no | F31: If NO skip to EX_B_7
A32: EX_B_5 | B32: What should be the distance between the rows for peas? (cm) | C32: Ku birayi, umwanya usigara hagati y'imirongo wagombye kungana ute? | D32: integer
A33: EX_B_6 | B33: What is the correct amount of chemical fertilizer (DAP or NPK) that you needed to use for peas? | C33: Ni ikihe gipimo gikwiye cy'ifumbire mvaruganda (DAP cg NPK) wari ukeneye gukoresha mu birayi byawe? | D33: select_one input_amount or_other | E33: Intoki eshatu ugeza mu cya kabiri cy'ikiganza (Three fingers to just half the finger) Intoki ebyiri ugarukira ku murongo wa mbere w'ikiganza (Two fingers to first finger line) intoki eshatu ugeza ku murongo wa kabiri w'ikiganza - inshuro ebyiri (Three fingers to the second finger line - two times) nta gipimo cy'Ifumbire inyongeramusaruro gisabwa (No fertilizer recommendation)
A34: EX_B_7 | B34: Did you plant soybeans in Season B 2013? | C34: Wahinze ibirayi mu gihembwe cy'ihinga B 2013? | D34: select_one yes_no | F34: If NO skip to EX_39
A35: EX_B_8 | B35: What should be the distance between the rows for soybeans? (cm) | C35: Ku birayi, umwanya usigara hagati y'imirongo wagombye kungana ute? | D35: integer
A36: EX_B_9 | B36: What is the correct amount of chemical fertilizer (DAP or NPK) that you needed to use for soybeans? | C36: Ni ikihe gipimo gikwiye cy'ifumbire mvaruganda (DAP cg NPK) wari ukeneye gukoresha mu birayi byawe? | D36: select_one input_amount or_other | E36: Intoki eshatu ugeza mu cya kabiri cy'ikiganza (Three fingers to just half the finger) Intoki ebyiri ugarukira ku murongo wa mbere w'ikiganza (Two fingers to first finger line) intoki eshatu ugeza ku murongo wa kabiri w'ikiganza - inshuro ebyiri (Three fingers to the second finger line - two times) nta gipimo cy'Ifumbire inyongeramusaruro gisabwa (No fertilizer recommendation)
A37: EX_39 | B37: When should you apply Urea to crops? | C37: Ni ryari Ureya igomba gukoreshwa ku gihingwa? | D37: select_one when_urea or_other | E37: Iminsi 40 nyuma yo gutera (40 days after planting ) mu itera (at planting) mu gihe igihingwa kimaze kureshya n'amavi (When the crop reaches knee high)
A38: EX_B_10 | B38: What are the four necessary components in a compost pile? | C38: nibihe binu bine bigize ifumbire mborera? | D38: select_multiple compost | E38: (dry matter) (green matter)" (air)" (water)" (milk)" (soil)" (rocks)"
A39: EX_B_11 | B39: Which of the following materials are good to use for composting? | C39: muri ibi bikurikira, nibihe byiza byakoreshwa mugukora ifumbire mborera? | D39: select_multiple compost | E39: (dry grass)" (fresh grass)" (manure)" (leaves)" (rocks)" (plastic)" (metal pieces)"
A40: EX_B_12 | B40: Have you used any home-made pesticides? | C40: hari imiti ikorerwa murugo yica udukoko waba warakoresheje? | D40: select_one yes_no | F40: If NO skip to EX_B_14
...

Sheet AA
A1: Question Number | B1: Question (Eng) | C1: Question (Kinya) | D1: type | E1: Answer Choices | F1: Skip | G1: Special instruction
A2: Module N: Animals & Assets | H2: Inka (A. Cow ) | I2: Intama (B. Sheep ) | J2: Ihene (C. Goats ) | K2: Ingurube (D. Pigs ) | L2: Inkwavu (E. Rabbits ) | M2: Inkoko nÕibndi biguruka (F. Chicken and other poultry) | N2: Radiyo (G. Radio ) | O2: Telefoni igendanwa (H. Mobile phone ) | P2: Intebe zo muri salo (I. Living Room Suite) | Q2: Igare (J. Bicycle ) | R2: Amasuka nÕigitiyo (K. Hoes and Shovels ) | S2: Rato nÕibitiyo (L. Rakes and Spades ) | T2: Ipiki (M. Picks ) | U2: Ingorofani (N. Wheel Barrow) | V2: Insyo (O. Mills ) | W2: Amasekuru NÕimihini (P. Mortar & Pestle ) | X2: Imashini ihinga ikururwa nÕamatungo (Q. Plough ) | Y2: Imashini ihinga ikoreshwa na moteri (R. Tractor ) | Z2: Pickup (S. Pick-up truck )
A3: AA_01 | B3: Did your household purchase any ${animal_asset} from March 2013 to August 2013? | C3: Hari ${animal_asset} byaguzwe muri uru rugo kuva muri Nzeri 2012 kugeza muri Gashyantare 2013? | D3: select_one yes_no | E3: Yes No | F3: if 2 then skip to AA_07
A4: AA_02 | B4: How many? | C4: Ni bingahe? | D4: integer
A5: AA_03 | B5: How much in total did you spend? | C5: Wabitanzeho amafaranga angahe? | D5: integer
A6: AA_04 | B6: Did your household sell any ${animal_asset} from March 2013 to August 2013? | C6: Hari ${animal_asset} cyagurishijwe muri uru rugo kuva muri Nzeri 2012 kugeza muri Gashyantare 2013? | D6: select_one yes_no | E6: Yes No | F6: if 2 then skip to AA_07
A7: AA_05 | B7: How many? | C7: Ni bingahe? | D7: integer
A8: AA_06 | B8: How much in total did you earn? | C8: Wabivanyemo amafaranga angahe? | D8: integer
A9: AA_07 | B9: How many ${animal_asset} does your HH currently own, in total? | C9: Muri uru rugo mutunze ${animal_asset} bingahe byose hamwe? | D9: integer | G9: Will cross-check with last survey

Sheet Labor
A1: Question Number | B1: Question (Eng) | C1: Question (Kinya) | D1: type | E1: Answer Choices | F1: Skip | G1: Special instruction
A2: Module O: LABOR OUTSIDE THE HOME | H2: Gukora ifumbire (A. Producing compost) | I2: Gutegura umurima wo guteramo imbuto (B. Preparing fields for planting) | J2: Gutera imbuto (C. Planting) | K2: Gukoresha ifumbire (ifumbire mborera, inyongeramusaruro) (D. Applying inputs (compost, fertilzer, etc)) | L2: Kufira (E. Weeding) | M2: Kuhira (F. Irrigating) | N2: Gusarura (G. Harvesting) | O2: Gutunganya ibihingwa nyuma y'isarura (H. Processing crops after Harvest) | P2: imirimo yo gufata neza ubutaka w'umushinga LWH (I. Land husbandry work for LWH project) | Q2: Ubwubatsi (J. construction) | R2: Gusana umuhanda (K, road maintenance) | S2: Ikindi gikorwa (L. any other task)
A3: LAB_01 | B3: Did any adult males (>16)in the HH do casual labor for ${task}? | C3: Hari abantu bakuru b'igitsina gabo muri uru rugo (hejuru y'imyaka 16) bagaragaye mu ${task}? | D3: select_one yes_no | E3: No Yes | F3: if NO then skip to LAB_03 | G3: skips if no adult males are on the HH roster
A4: LAB_02 | B4: How much in total did they earn for ${task}? (RWF) | C4: Binjije amafaranga angahe yose hamwe mu ${task}? (RWF) | D4: integer
A5: LAB_03 | B5: Did any adult females (>16) in the HH do casual labor for ${task}? | C5: Hari abantu bakuru b'igitsina gore muri uru rugo (hejuru y'imyaka 16) bagaragaye mu ${task}? | D5: select_one yes_no | E5: No Yes | F5: if NO then skip to LAB_05 | G5: skips if no adult females are on the HH roster
A6: LAB_04 | B6: How much in total did they earn for ${task}? (RWF) | C6: Bungutse amafaranga angahe yose hamwe mu ${task}? (RWF) | D6: integer
A7: LAB_05 | B7: Did any children (younger than 16) do casual labor for ${task}? | C7: Hari abana muri uru rugo (munsi y'imyaka 16) bagaragaye mu ${task}? | D7: select_one yes_no | E7: No Yes | F7: if NO then skip to next TASK | G7: skips if no children under 16 on the HH roster
A8: LAB_06 | B8: How much in total did they earn for ${task}? (RWF) | C8: Bungutse amafaranga angahe yose hamwe mu ${task}? (RWF) | D8: integer

Sheet Credit
A1: Question Number | B1: Question (Eng) | C1: Question (Kinya) | D1: type | E1: Answer Choices | F1: Skip | G1: Special instruction
A2: Module R: CREDIT | H2: Banki y'ubucuruzi (A. commercial bank) | I2: SACCO (B. SACCO) | J2: COOPEC (C. COOPEC ) | K2: Ibindi bigo by'imari iciriritse (D. other MFI ) | L2: Umuvandimwe (E. relative) | M2: TUBURA (F. TUBURA) | N2: Incuti (G. friend) | O2: Butike (H. shop keeper / employer) | P2: Ibigo byo kubitsa (I. comm based savings grp) | Q2: Koperative (J. cooperative) | R2: Umukuru w'umudugudu (K. village leader) | S2: Umukuru w'itorero/idini (L. religious leader)
A3: CRD_01 | B3: Since June 1 2013, have you requested a loan from ${creditor}? | C3: Kuva muri kamena 2013, wigeze waka inguzanyo muri ${creditor}? | D3: select_one yes_no | F3: If NO, skip to next creditor
A4: CRD_02 | B4: Did you receive a loan from ${creditor}? | C4: Wahawe inguzanyo na ${creditor}? | D4: select_one yes_no | F4: If YES, skip to CRD_04
A5: CRD_T_error | B5: Error: This respondent reported they were a member of Tubura Season B, and therefore did receive a loan for inputs from Tubura. Please swipe back to correct.
A6: CRD_03 | B6: Why not? | C6: Kubera iki? | D6: select_one why_no_loan or_other | F6: SKIP to next CREDITOR
A7: CRD_04 | B7: In what month did you take the loan? | C7: Iyo nguzanyo wayihawe mu kuhe kwezi? | D7: select_one month_loan
A8: CRD_05 | B8: What was the primary purpose of the loan? | C8: Ni iyihe mpamvu y'ingenzi yatumye waka iyo nguzanyo? | D8: select_one loan_purpose or_other
A9: CRD_06 | B9: Was any portion of the loan used to pay for agricultural inputs? | C9: Muri iyo nguzanyo, hari igice cyagenewe kugura inyongeramusaruro? | D9: select_one yes_no | F9: If NO skip to CRD_09
A10: CRD_07 | B10: How much of the loan was used to pay for agricultural inputs? | C10: Ni amafaranga angahe y'iyo nguzanyo yaguzwemo inyongeramusaruro? | D10: integer
A11: CRD_08 | B11: Which agricultural input(s )were purchased using the loan? | C11: Ni ubuhe bwoko bw'inyongeramusaruro waguze ukoresheje iyo nguzanyo? | D11: select_multiple inputs or_other
A12: CRD_09 | B12: Which household member was the main recipient of the loan? | C12: Ni nde muntu muri uru rugo wanditsweho iyi nguzanyo? | D12: select_one hh_roster_complete
A13: CRD_10 | B13: What was the total amount of the loan? | C13: Inguzanyo yose ingana n'amafaranga angahe? | D13: integer
A14: CRD_11 | B14: Was interest charged on the loan from ${creditor}? | C14: Hari inyungu isabwa na ${creditor} kuri iyo nyunguzanyo? | D14: select_one yes_no | F14: if NO skip to CRD_14
A15: CRD_12 | B15: What was the rate of interest? | C15: Iyo nyungu ingana ite? | D15: decimal
A16: CRD_13 | B16: unit of time for interest rate | C16: Igihe iyo nyungu izamara itangwa | D16: select_one time_unit
A17: CRD_14_Q | B17: What is the length of the repayment period? | C17: Iyo nguzanyo izishyurwa mu gihe kingana iki? | D17: decimal
A18: CRD_14_U | B18: Unit of time for repayment period | D18: select_one time_unit
A19: CRD_15 | B19: Was collateral required to secure the loan? | C19: Hari ingwate wasabwe kugira ngo ubone iyo nguzanyo? | D19: select_one yes_no
A20: CRD_16 | B20: What was the collateral required to secure the loan? | C20: Ni yihe ngwate mwatanze kugira ngo mubone inguzanyo | D20: select_one collateral or_other
A21: CRD_17 | B21: How many payments have you made on the loan so far? | C21: kuri iyo nguzanyo umaze kuriha ibyiciro bingahe? | D21: integer
A22: CRD_18 | B22: Have you paid this loan in full? | C22: Iyi nguzanyo wayishyuriye ingunga imwe? | D22: select_one yes_no | F22: If YES skip to CRD_20
A23: CRD_19 | B23: In what month did you make the final payment on this loan? | C23: Warangije kwishyura iyi nguzanyo mu kuhe kwezi? | D23: select_one month_loan
A24: CRD_20 | B24: How much in total have you paid so far (including principal and interest)? | C24: Kugeza ubu, umaze kwishyura amafaranga angahe yose hamwe (harimo inguzanyo n'inyungu)? | D24: integer
A25: CRD_21 | B25: What would the consequence be if you failed to repay this loan? | C25: Ni izihe ngaruka wari kugira iyo utaza kwishyura iyi nguzanyo? | D25: select_one no_pay_consequence or_other
A26: CRD_22 | B26: Imagine you have a loan for RWF 5,000. Would you rather pay it in small installments (less than RWF1,000) as often as you can or in large installments (more than RWF1,000) only when you have cash on hand from wages or harvest? | C26: Tuvuge ko ufite inguzanyo y'amafaranga 5.000. Wumva wazayishyura mu byiciro bigufi (uriha amafaranga atarenze 1.000) igihe cyose ubishoboye cyangwa wazayishyura mu byiciro birambuye (uriha amafaranga arenze 1.000) bitewe gusa n'uko uyafite mu ntoki uyakesha umushahara cyangwa umusaruro? | D26: select_one installments | E26: ask these only for people that were skipped on it for some reason last time
A27: CRD_23 | B27: Imagine you have a loan for RWF50,000. Would you rather pay it in small installments (less than RWF1,000) as often as you can or in large installments (more than RWF1,000) only when you have cash on hand from wages or harvest? | C27: Tuvuge ko ufite inguzanyo y'amafaranga 50.000. Wumva wazayishyura mu byiciro bigufi (uriha amafaranga ari munsi ya 1.000) igihe cyose uzaba ubishoboye cyangwa wazayishyura mu byiciro birambuye (uriha amafaranga ari hejuru y'amafaranga 1.000) bitewe gusa n'uko uyafite mu ntoki uyakesha umushahara cyangwa umusaruro? | D27: select_one installments

Sheet Transfers
A1: Question Number | B1: Question (Eng) | C1: Question (Kinya) | D1: type | E1: Answer Choices | F1: Skip | G1: Special instruction
A2: Module R: TRANSFERS
A3: TR_01 | B3: How many times has anyone in the HH given gifts or remittances (in cash or in kind) to friends, family or neighbors since June 1 2013? Note: TRANSFERS are defined as gifts or remittances made among the members of a social network (family, friends and neighbors). They can come in the form of cash, mobile money, or other formal financial networks like Western Union, and they can be in-kind (such as gifts of food, supplies, or labor). Do not include loans or community-based savings contributions. | C3: Note: Ni kangahe umuntu wo muri uru rugo yahaye impano cg amafaranga (mu ntoki cg mu bundi buryo) incuti, umuryango cg abaturanye kuva muri kamena 2013? Ihererekanya rifite ubusobanuro bw'impano cyangwa amafaranga bitangwa hagati mu banyamuryango bafite icyo bahuriyeho (umuryango, incuti n'abaturanyi). Bishobora gutangwa mu ntoki, kuri mobayilo mani, cyangwa hakoreshejwe ubundi buryo bwo kohererezanya amafaranga nka Western Union, bishobora no kuba ibindi bintu (nk'impano z'ibiryo, ibikoresho cyangwa akazi). Ntubivange n'inguzanyo cyangwa imisanzu y'amashyirahamwe y'ubwisungane. | D3: integer | F3: If O SKIP to TR_07
A4: TR_02 | B4: Transfer ${gtransfer_position}: Recipient's relationship to HH member who made the transfer (or relationship to HH head if gift was given from entire HH) | C4: Transfer ${gtransfer_position}: isano uwayakiriye afitanye n'umuntu wo mu rugo wayohereje (cg isano afitanye na nyir'urugo niba impano yatanzwe n'urugo rwose) | D4: select_one transfer_relationship or_other | E4: umufasha (Spouse) ababyeyi (Parent) sekuru/nirakuruy (Grandparent) umwana (Child) abavandimwe (Sister/brother) nyirasenge/nyirarume (Aunt/uncle) ababyara (Cousin) abaturanyi(Neighbor) inshuti (Friend)
A5: TR_03 | B5: Distance from HH to transfer recipient | C5: Ni iyihe ntera iri hagati y'urugo na nyir'ukwakira impano? | D5: select_one transfer_distance | E5: mu mudugudu (within village) mu karere (within district) ahandi hose mu Rwanda (elsewhere in Rwanda) hanze y'u Rwanda (outside of Rwanda)
A6: TR_04 | B6: Reason for gift | C6: Impamvu y'iyo mpano | D6: select_one transfer_reason or_other | E6: Ibirori (ubukwe, gushyingura, ibindi) (social events) Ibibazo by'ubuzima (health shocks) uburezi bw'abana (education of children) ibijyanye n'inyongeramusaruro (agricultural inputs) gushyiraho abakozi (hired labor) kurumba kw'imyaka (crop failure)
A7: TR_05 | B7: Was transfer in cash or in kind? | C7: impano yatanzwe mu mafaranga cya mu bintu? | D7: select_one cash_in_kind | E7: (cash)" (in-kind)"
A8: TR_06 | B8: Transfer amount (or estimated value if in-kind transfer) (RWF) | C8: Umubare w'amafaranga yoherejwe (cg agaciro k'ikindi kintu cyoherejwe) (RWF) | D8: integer
A9: TR_07 | B9: How many times has anyone in the HH received gifts or remittances (in cash or in kind) from friends, family or neighbors since June 1 2013? Note: TRANSFERS are defined as gifts or remittances made among the members of a social network (family, friends and neighbors). They can come in the form of cash, mobile money, or other formal financial networks like Western Union, and they can be in-kind (such as gifts of food, supplies, or labor). Do not include loans or community-based savings contributions. | C9: Ni kangahe umuntu wo muri uru rugo yakiriye impano cg yohererejwe amafaranga (mu ntoki cg mu bundi buryo) incuti, umuryango cg abaturanyi kuva muri kamena 2013? Ihererekanya rifite ubusobanuro bw'impano cyangwa amafaranga bitangwa hagati mu banyamuryango bafite icyo bahuriyeho (umuryango, incuti n'abaturanyi). Bishobora gutangwa mu ntoki, kuri mobayilo mani, cyangwa hakoreshejwe ubundi buryo bwo kohererezanya amafaranga nka Western Union, bishobora no kuba ibindi bintu (nk'impano z'ibiryo, ibikoresho cyangwa akazi). Ntubivange n'inguzanyo cyangwa imisanzu y'amashyirahamwe y'ubwisungane. | D9: integer | F9: If 0 skip to next module
A10: TR_09 | B10: Transfer ${rtransfer_position}: Sender's relationship to HH member who received the transfer (or relationship to HH head if entire HH received the transfer) | C10: Transfer ${rtransfer_position}: isano uwayohereje afitanye n'umuntu wo mu rugo wayakiriye (cg isano afitanye na nyir'urugo niba amafaranga yarakiriwe mu izina ry'urugo rwose) | D10: select_one transfer_relationship or_other | E10: umufasha (Spouse) ababyeyi (Parent) sekuru/nirakuruy (Grandparent) umwana (Child) abavandimwe (Sister/brother) nyirasenge/nyirarume (Aunt/uncle) ababyara (Cousin) abaturanyi(Neighbor) inshuti (Friend)
A11: TR_10 | B11: Distance from HH to transfer sender | C11: Intera iri hagati y'urugo na nyir'ukohereza | D11: select_one transfer_distance | E11: mu mudugudu (within village) mu karere (within district) ahandi hose mu Rwanda (elsewhere in Rwanda) hanze y'u Rwanda (outside of Rwanda)
A12: TR_11 | B12: Reason for transfer | C12: Impamvu yatumye yoherezwa | D12: select_one transfer_reason or_other | E12: Ibirori (ubukwe, gushyingura, ibindi) (social events) Ibibazo by'ubuzima (health shocks) uburezi bw'abana (education of children) ibyangombwa byo mu buhinzi ukurumba kw'imyaka (agricultural inputs) (hired labor) (crop failure)
A13: TR_12 | B13: Was transfer in cash or in kind? | C13: Amafaranga yoherejwe ni kashi cg hoherejwe ikindi kintu? | D13: select_one cash_in_kind | E13: (cash)" (in-kind)"
A14: TR_13 | B14: Transfer amount (or estimated value if in-kind transfer) | C14: Umubare w'amafaranga yoherejwe (cg agaciro k'ikindi kintu cyoherejwe) | D14: integer

Sheet Shocks
A1: Question Number | B1: Question (Eng) | C1: Question (Kinya) | D1: type | E1: Answer Choices | F1: Skip | G1: Special instruction
A2: Module S: SHOCKS | H2: kurumba kw'imyaka bitewe n'amapfa, imyuzure cg irindi hindagurika ry'ikirere (A. Crop failure due to drought, flooding or other weather event) | I2: kurumba kw'imyaka bidaturutse ku kirere (B. Crop failure (not weather related)) | J2: uburwayi bukomeye bw'abo mu rugo (kumara nk'icyumweru) (C. Serious illness of family members (for at least a week)) | K2: kwibwa kw'umutungo cg igihombo/kononekara k'umutungo (D. Theft of property or loss/damage of assets) | L2: gutakaza akazi bitunguranye (E. Sudden job loss) | M2: ibindi (F. Other)
A3: SH_01 | B3: How many times since June 1, 2013 has your HH experienced ${shock}? | C3: Kuva muri kamena 2013 ni kangahe urugo rwawe rwagize ${shock}? | D3: integer | F3: If 0, skip to next SHOCK
A4: SH_02 | B4: Total loss associated with ${shock} (RWF) | C4: Igihombo cyose cyatewe na ${shock} (RWF) | D4: integer
A5: SH_03 | B5: How did you cope with this ${shock}? | C5: Witwaye ute muri iki ${shock}? | D5: select_multiple cope | E5: hakoreshejwe ubwizigame (Used savings) hagurishijwe igikoresho cyo mu rugo (Sold assets) imirimo y'ubuhinzi hanze y'urugo (HH members performed off-farm labor) yagurijwe amafaranga (Loan from informal source) yahawe inguzanyo (Loan from formal source) impano ziturutse mu nshuti,abavandimwe,umuturanyi (Gift from friend/relative/neighbor) | G5: Informal sources = friend, relative, moneylender etc Formal source = bank or MFI

Sheet FS 1
A1: Question Number | B1: Question (Eng) | C1: Question (Kinya) | D1: type | E1: Answer Choices | F1: Skip | G1: Special instruction
A2: Module U: Food Security, Part 1
A3: FS_A | B3: Enumerator: For the remaining sections, the respondent must be an adult female in the HH. Is an adult female available? | C3: umukarani w'ibarura:kubibazo bisigaye usubiza agomba kuba igitsina gore kandi gikuze mubagize uru rugo.araboneka ngo abazwe? | D3: select_one yes_no | G3: Appears if the current respondent is not an adult female
A4: FS_B | B4: Please select the respondent for the remaining food security sections. | C4: hitamo ugusubiza muri icyi cyiciro gisigaye kijyanye ni ibiribwa. | D4: select_one hh_roster_complete
A5: FS_C | B5: Enumerator: Please arrange a time when you can come to complete the food security section with an adult female in the HH. | C5: umukarani w'ibarura:gerageza ushake umwanya wagarukira kugira ubaze icyi cyiciro kijyanye ni ibiribwa hamwe n'igitsina gore kandi ukuze muri uru rugo. | D5: note | G5: Appears if no adult female is available. Interview must be submitted now, and a "FOOD SECURITY" interview submitted later.
A6: FS_01 | B6: In the past [4 weeks/30 days], was there ever no food to eat of any kind in your house because of lack of resources to get food? | C6: Mu bihe byahise [byumweru 4/iminsi 30 ], urugo rwanyu rwigeze ruhura n’ikibazo cyo kubura ibiribwa ibyo ari byo byose byo kurya kubera kubura amikoro yo kubibona? | D6: select_one yes_no | F6: If NO skip to FS_03
A7: FS_02 | B7: How often did this happen in the past [4 weeks/30 days]? | C7: Ibyo byabaye inshuro zingahe mu gihe cyashize [byumweru 4 / minsi 30]? | D7: select_one hhs_often | E7: Ni gake ( inshuro 1-2 mu byumweru 4 bishize) (Rarely (1-2 times in past 4 weeks) ) Rimwe na rimwe (inshuro 3-10 mu byumweru 4 bishize) (Sometimes (3-10 times in past 4 weeks) ) Kenshi ( inshuro zirenga 10 mu byumweru 4 bishize) (Often (more than 10 times in past 4 weeks) )
A8: FS_03 | B8: In the past [4 weeks/30 days], did you or any household member go to sleep at night hungry because there was not enough food? | C8: Mu bihe byahise, [byumweru 4 /iminsi 30], hari umuntu wo mu rugo rwanyu waraye atariye kubera ko nta biribwa bihagije mwari mufite? | D8: select_one yes_no | F8: If NO skip to FS_05
A9: FS_04 | B9: How often did this happen in the past [4 weeks/30 days]? | C9: Ibyo byabaye inshuro zingahe mu gihe gishize [byumweru 4 /iminsi 30]? | D9: select_one hhs_often | E9: Ni gake ( inshuro 1-2 mu byumweru 4 bishize) (Rarely (1-2 times in past 4 weeks) ) Rimwe na rimwe (inshuro 3-10 mu byumweru 4 bishize) (Sometimes (3-10 times in past 4 weeks) ) Kenshi ( inshuro zirenga 10 mu byumweru 4 bishize) (Often (more than 10 times in past 4 weeks) )
A10: FS_05 | B10: In the past [4 weeks/30 days], did you or any household member go a whole day and night without eating anything at all because there was not enough food? | C10: Mu bihe byahise, [byumweru 4 /iminsi 30] wowe cyangwa undi muntu wo mu rugo rwanyu mwigeze mubwirirwa cg mukaburara kubera kubura biribwa bihagije? | D10: select_one yes_no | F10: If NO skip to next module
A11: FS_06 | B11: How often did this happen in the past [4 weeks/30 days]? | C11: Ibyo byabaye inshuro zingahe mu gihe gishize [byumweru 4 /iminsi 30] biheruka? | D11: select_one hhs_often | E11: Ni gake ( inshuro 1-2 mu byumweru 4 bishize) (Rarely (1-2 times in past 4 weeks) ) Rimwe na rimwe (inshuro 3-10 mu byumweru 4 bishize) (Sometimes (3-10 times in past 4 weeks) ) Kenshi ( inshuro zirenga 10 mu byumweru 4 bishize) (Often (more than 10 times in past 4 weeks) )

Sheet FS 2
A1: Question Number | B1: Question (Eng) | C1: Question (Kinya) | D1: type | E1: Answer Choices | F1: Skip
A2: Module U: Food Security, Part 2 | G2: Ifu (yingano, imyumbati nÍibigori) (A. Flour (from wheat, cassava, maize)) | H2: Umugati (B. Bread) | I2: Umuceri (C. Rice) | J2: Inyama, Amafi (D. Meat, Fish) | K2: Ibiguruka nÍamagi (E. Polutry and Eggs) | L2: Mata, Ibikomoka ku mata (F. Millk & Other dairy products) | M2: Amavuta yo guteka (G Edible Oils) | N2: Imbuto (H. Fruits) | O2: Ibishyimbo (I. Beans) | P2: Imboga (J. Vegetables) | Q2: Ibinyamizi nÍibinyabijumba (K. Matoke, Cassava, Sweet/ Irish potatoes) | R2: Ibinyobwa bidasembuye (L. Juice, soda, or any non-alcoholic drink) | S2: Isukari nÍibindi biryohera (M. Sugar, honey, other Sweeteners) | T2: Indyoshyandyo nÍidindi birungo (N. Salt or spices) | U2: (O. Meals Prepared outside HH) | V2: Amafunguro ategurirwa hanze yÍurugo (P. Nuts (ground nuts, sesame, sunflower seeds, etc))
A3: EXP_25 | B3: How many days in the last 1 week has your household consumed ${food}? | C3: Mu cyumweru gishize, urugo rwawe rwariye ${food} iminsi ingahe? | D3: integer | F3: If 0, skip to EXP_30
A4: EXP_26 | B4: What was the source of ${food}? | C4: Ibyo ${food} byaturutse he? | D4: umusaruro bwite (Own production) umuhigo/uburobyi (Hunting/gathering/fishing) igurana (umurimo/ibiribwa) (Exhange (labor/food)) kuguza (Borrowed) kugurwa (Purchased) impano z'abavandimwe (Gifts from relatives ) imfashanyo (imiryango itagengwa na Leta, Guverinoma) (Aid (NGO, GoR))
A5: EXP_27_Q | B5: How much ${food} of your own production did your HH consume over the last week? | C5: Urugo rwanyu rwariye ${food}rwiyejereje bingana iki mu cyumweru gishize? | D5: decimal
A6: EXP_27_U | B6: Units | D6: select_one quantity_units
A7: EXP_28_Q | B7: How much ${food} did you purchase? | C7: Waguze ${food} bingana bite? | D7: decimal
A8: EXP_28_U | B8: units | D8: select_one quantity_units
A9: EXP_29 | B9: How much in total did your HH spend on purchased ${food} over the last week? (RWF) | C9: Mwatanze amafaranga angana iki mugura ${food} mu cyumweru gishize? (RWF) | D9: integer

Sheet FS 3
A1: Question Number | B1: Question (Eng) | C1: Question (Kinya) | D1: type | E1: Answer Choices | F1: Skip | G1: Special instruction
A2: Module U: Food Security, Part 3
A3: L_2_1 | B3: Now I would like to ask you about your household’s food supply during different months of the year. When responding to these questions, please think back over the last 12 months, from now to the same time last year. Were there any months, in the past 12 months, in which you did not have enough food to meet your family’s needs? This includes any kind of food from any source, such as own production, purchase or exchange, food aid, or borrowing. | C3: Ndifuza kukubaza aho urugo rwanyu rwagiye rukura ibiribwa mu mezi atandukanye y’umwaka. Mu gusubiza ibi bibazo usubize amaso inyuma utekereze ku mezi 12 ashize uhereye ubu kugeza ku gihe nk’icyi cyo mu mwaka ushize. Ese mu mezi 12 aheruka hari amezi mwaba mwaragizemo ikibazo cyo kutabona ibiribwa bihagije umuryango wanyu wari ukeneye? Aha ni ukuvuga ibiribwa ibyo ari byo byose hatitawe ku hantu bituruka tukaba twavuga nk’ibyo bisaruriye, baguze cyangwa baguranye, imfashanyo y’ibiribwa cyangwa ibyo bagujije. | D3: select_one yes_no | F3: If NO, skip to next Module
A4: L_2_2 | B4: Which were the months in the past 12 months when you did not have enough food to meet your family’s needs? Do not read the list of months aloud. Place a 1 in the box if the respondent identifies that month as one in which the HH did not have enough food to meet their needs. If the respondent does not identify that month, place a 2 in the box. Use a seasonal calendar if needed to help respondent remember the different months. Probe to make sure the respondent has thought about the entire past 12 months. | C4: Ni ryari urugo rwanyu rutigeze rubona ibyo kurya bihagije mu mezi 12 ashize? Irinde gusoma urutonde rw’amezi mu ijwi riranguruye. Shyira 1 mu kazu niba usubiza ibibazo avuzeko uko kwezi ari ko urugo rwahuyemo n’ikibazo cyo kutabona ibiribwa bihagije rwari rukeneye. Niba usubiza ibibazo atagize ukwezi avuga, shyira 2 mu kazu. Koresha ingengabihe y’ibihembwe by’ihinga niba usanga ari bwo buryo bwafasha usubiza ibibazo kwibuka ayo mezi atandukanye. Kubaza ibibazo bituma usubiza avuga ku mezi yose 12 aheruka. | D4: note
A5: L_2_2_november | B5: November | C5: ugushyingo | D5: select_one yes_no
A6: L_2_2_december | B6: December | C6: ukuboza | D6: select_one yes_no
A7: L_2_2_january | B7: January | C7: mutarama | D7: select_one yes_no
A8: L_2_2_february | B8: February | C8: gashyantare | D8: select_one yes_no
A9: L_2_2_march | B9: March | C9: werurwe | D9: select_one yes_no
A10: L_2_2_april | B10: April | C10: mata | D10: select_one yes_no
A11: L_2_2_may | B11: May | C11: gicurasi | D11: select_one yes_no
A12: L_2_2_june | B12: June | C12: kamena | D12: select_one yes_no
A13: L_2_2_july | B13: July | C13: nyakanga | D13: select_one yes_no
A14: L_2_2_august | B14: August | C14: kanama | D14: select_one yes_no
A15: L_2_2_september | B15: September | C15: nzeri | D15: select_one yes_no
A16: L_2_2_october | B16: October | C16: ukwakira | D16: select_one yes_no
A17: L_2_3_november | B17: November: Why? List up to 3 reasons. If more than 3, ask respondent to choose 3 most important. | C17: kubera iki ugushyingo ? vuga impamvu 3.nimba zirenze 3,baza uwo muganira guhitamo 3 zibanze | D17: select_multiple why_hungry or_other | E17: Amapfa/imvura ibura ry’imvura (Drought) Imyuzure (Floods) imvura igwa ihindagurika (Irregular rains) Ibyonnyi n’indwara by’ibihingwa (Crop pests and disease) Indwara z’amatungo (Livestock disease) Izamuka ry’ibirico by’ibiribwa (High food prices) Izamuka ry’ibiciro by’inyongeramusaruro zo mu buhinzi (High cost of agricultural inputs) Ibura cyangwa igabanuka ry’akazi (Loss or reduced employment) Indwara cyangwa impanuka by’umwe mu bagize umuryango (Illness/ accident of HH member) Urupfu rw’umwe mu bagize umuryango (Death of HH member) Kwibwa ibyakoreshwaga mu kubyara umusaruro (Theft of productive resources) Ibindi bikorwa bihanwa n’amategeko (Other criminal acts) Isuri/Inkangu (Erosion/Landslides) | G17: Will appear if November selected above
A18: L_2_3_december | B18: December: Why? List up to 3 reasons. If more than 3, ask respondent to choose 3 most important. | C18: kubera iki ukuboza? Vuga impamvu 3.nimba zirenze 3,baza uwo muganira guhitamo 3 zibanze | D18: select_multiple why_hungry or_other | G18: Will appear if December selected above
A19: L_2_3_january | B19: January: Why? List up to 3 reasons. If more than 3, ask respondent to choose 3 most important. | C19: kubera iki mutarama? vuga impamvu 3.nimba zirenze 3,baza uwo muganira guhitamo 3 zibanze | D19: select_multiple why_hungry or_other | G19: Will appear if January selected above
A20: L_2_3_february | B20: February: Why? List up to 3 reasons. If more than 3, ask respondent to choose 3 most important. | C20: kubera iki gashyantare? Vuga impamvu 3.nimba zirenze 3,baza uwo muganira guhitamo 3 zibanze | D20: select_multiple why_hungry or_other | G20: Will appear if February selected above
A21: L_2_3_march | B21: March: Why? List up to 3 reasons. If more than 3, ask respondent to choose 3 most important. | C21: kubera iki werurwe? Vuga impamvu 3.nimba zirenze 3,baza uwo muganira guhitamo 3 zibanze | D21: select_multiple why_hungry or_other | G21: Will appear if March selected above
A22: L_2_3_april | B22: April: Why? List up to 3 reasons. If more than 3, ask respondent to choose 3 most important. | C22: kubera iki mata? Vuga impamvu 3.nimba zirenze 3,baza uwo muganira guhitamo 3 zibanze | D22: select_multiple why_hungry or_other | G22: Will appear if April selected above
A23: L_2_3_may | B23: May: Why? List up to 3 reasons. If more than 3, ask respondent to choose 3 most important. | C23: kubera iki gicurasi? Vuga impamvu 3.nimba zirenze 3,baza uwo muganira guhitamo 3 zibanze | D23: select_multiple why_hungry or_other | G23: Will appear if May selected above
A24: L_2_3_june | B24: June: Why? List up to 3 reasons. If more than 3, ask respondent to choose 3 most important. | C24: kubera iki kamena? Vuga impamvu 3.nimba zirenze 3,baza uwo muganira guhitamo 3 zibanze | D24: select_multiple why_hungry or_other | G24: Will appear if June selected above
A25: L_2_3_july | B25: July: Why? List up to 3 reasons. If more than 3, ask respondent to choose 3 most important. | C25: kubera iki nyakanga? Vuga impamvu 3.nimba zirenze 3,baza uwo muganira guhitamo 3 zibanze | D25: select_multiple why_hungry or_other | G25: Will appear if July selected above
A26: L_2_3_august | B26: August: Why? List up to 3 reasons. If more than 3, ask respondent to choose 3 most important. | C26: kubera iki kanama? vuga impamvu 3.nimba zirenze 3,baza uwo muganira guhitamo 3 zibanze | D26: select_multiple why_hungry or_other | G26: Will appear if August selected above
A27: L_2_3_september | B27: September: Why? List up to 3 reasons. If more than 3, ask respondent to choose 3 most important. | C27: kubera iki nzeri? Vuga impamvu 3.nimba zirenze 3,baza uwo muganira guhitamo 3 zibanze | D27: select_multiple why_hungry or_other | G27: Will appear if September selected above
A28: L_2_3_october | B28: October: Why? List up to 3 reasons. If more than 3, ask respondent to choose 3 most important. | C28: kubera iki ukwakira? Vuga impamvu 3.nimba zirenze 3,baza uwo muganira guhitamo 3 zibanze | D28: select_multiple why_hungry or_other | G28: Will appear if October selected above

Sheet FS 4
A1: Question Number | B1: Question (Eng) | C1: Question (Kinya) | D1: type | E1: Answer Choices | F1: Special instruction
A2: Module U: Food Security, Part 4
A3: WDDS_note | B3: Enumerator Instructions: Ask the respondent to describe the foods (meals and snacks) she ate or drank yesterday during the day and night. Start with the first food or drink of the morning. Write down all foods and drinks mentioned. When composite dishes are mentioned, ask for the list of ingredients. When the respondent has finished, please probe for meals and snacks not mentioned. | C3: Gusaba usubiza ibibazo gusobanura ibiribwa (amafunguro n’utundi tuntu abantu bafungura hagati y’amafunguro) umugore uyu n’uyu yariye cyangwa ibinyobwa yanyoye ejo hashize ku manywa na nijoro. Guhera ku kiribwa no ku kinyobwa yahereyeho mu gitondo. Andika ibiribwa n’ibinyobwa byose umuntu avuze. Niba avuze amafunguro akozwe n’ibiribwa byinshi kumusaba kuvuga ibigize ayo mafunguro. Igihe usubiza ibibazo arangije, sa n’umubaza uganisha ku mafunguro no ku tundi tuntu abantu bafungura mbere yo kurya atigeze avuga | D3: note | F3: WRITE ON WORKSHEET (SEE FINAL PAGE), then enter on tablet
A4: WDDS_B | B4: Breakfast | C4: Ifunguro rya mugitondo | D4: select_multiple food_groups | E4: See "FOOD GROUPS" on final page.
A5: WDDS_BS | B5: Snack | C5: Utuntu dufungurwa hagati y’amafunguro | D5: select_multiple food_groups
A6: WDDS_L | B6: Lunch | C6: Ifunguro rya saa sita | D6: select_multiple food_groups
A7: WDDS_LS | B7: Snack | C7: Utuntu dufungurwa hagati y’amafunguro | D7: select_multiple food_groups
A8: WDDS_D | B8: Dinner | C8: Ifunguro ryo ku mugoroba | D8: select_multiple food_groups
A9: WDDS_DS | B9: Snack | C9: Utuntu dufungurwa hagati y’amafunguro | D9: select_multiple food_groups
A10: FS_08 | B10: Are you sure you didn't eat any of the following foods? Enumerator: please use examples CEREALS: Corn/maize, Rice, Wheat, Sorghum, Millet or any other grains or foods made from these (e.g. Ugali, Bread, Noodles, Porridge or other grain products) | C10: urabizi udashidikanya neza ko nta biribwa bikurikira waba warariye? Umukari w'ibarura:koresha ingero IBINYAMPEKE: Ibigori,umuceri,ingano,amasaka,nibindi binyampeke cg ibikomokaho (ubugali, umutsima,imigati,igikoma n’ibindi) | D10: select_one did_didn't_eat | E10: bariye(Did Eat) ntibariye(Did Not Eat) | F10: Asked if this food group is not selected already.
A11: FS_09 | B11: Are you sure you didn't eat any of the following foods? Enumerator: please use examples WHITE ROOTS AND TUBERS: Irish Potatoes, White Yam, White Cassava, or other foods made from roots | C11: urabizi udashidikanya neza ko nta biribwa bikurikira waba warariye? Umukari w'ibarura:koresha ingero IBINYABIJUMBA: Ibirayi,ubugali, ibivunde n’ibindi bikomoka ku binyamizi | D11: select_one did_didn't_eat | E11: bariye(Did Eat) ntibariye(Did Not Eat) | F11: Asked if this food group is not selected already.
A12: FS_10 | B12: Are you sure you didn't eat any of the following foods? Enumerator: please use examples YELLOW/ ORANGE VEGETABLES AND TUBERS: Pumpkin, Carrot, Squash, or Sweet Potato that are orange inside + other locally available vitamin A rich vegetables (e.g. Red Sweet Pepper) | C12: urabizi udashidikanya neza ko nta biribwa bikurikira waba warariye? Umukari w'ibarura:koresha ingero IMBOGA N’IBINYABIJUMBA BIKUNGAHAYE KURI VITAMINI A: Ibihaza, karoti, amadegede cyangwa ibijumba bigira ibara rya oranje imbere + izindi mboga zikungahaye kuri vitamini A zikunda kuboneka mu gace batuyemo ( twavuga ibirungo) | D12: select_one did_didn't_eat | E12: bariye(Did Eat) ntibariye(Did Not Eat) | F12: Asked if this food group is not selected already.
A13: FS_11 | B13: Are you sure you didn't eat any of the following foods? Enumerator: please use examples DARK GREEN LEAFY VEGETABLES: Dark green leafy vegetables, including wild forms + locally available vitamin A rich leaves such as Amaranth, Cassava leaves, Kale, Spinach | C13: urabizi udashidikanya neza ko nta biribwa bikurikira waba warariye? Umukari w'ibarura:koresha ingero IMBOGA MBISI: mboga z’amababi mabisi yijimye harimo izo mu gasozi+ imboga z’amababi zikungahaye kuri vitamini A zikunda kuboneka aho batuye nka dodo, ibibabi by’imyumbati, kale, epinari | D13: select_one did_didn't_eat | E13: bariye(Did Eat) ntibariye(Did Not Eat) | F13: Asked if this food group is not selected already.
A14: FS_12 | B14: Are you sure you didn't eat any of the following foods? Enumerator: please use examples OTHER VEGETABLES: Other vegetables (e.g. Tomato, Onion, Eggplant, Green beans) + other local vegetables | C14: urabizi udashidikanya neza ko nta biribwa bikurikira waba warariye? Umukari w'ibarura:koresha ingero IZINDI MBOGA : Izindi mboga (twavuga nk’ itomati, onyo, intoryi) + izindi mboga ziboneka mu gace batuyemo | D14: select_one did_didn't_eat | E14: bariye(Did Eat) ntibariye(Did Not Eat) | F14: Asked if this food group is not selected already.
