Workbook
Name _Toc79524189: #REF!
Name _Toc79524190: #REF!
Name _Toc86927583: '9.2-9.3Accès_Infrast&Res.commu'!$A$1

Sheet 1. Caract_Exploit_Agricoles
A1: Tableau 1.1-1 Taille moyenne des ménages par région
A2: REGION | B2: Taille moyenne des ménages par région
A3: SEDHIOU | B3: 11.68
A4: MATAM | B4: 11.21
A5: TAMBACOUNDA | B5: 11.03
A6: KAOLACK | B6: 10.92
A7: KAFFRINE | B7: 10.88
A8: KOLDA | B8: 10.41
A9: THIES | B9: 10.2
A10: DIOURBEL | B10: 9.93
A11: DAKAR | B11: 9.77
A12: LOUGA | B12: 8.31
A13: ZIGUINCHOR | B13: 8.15
A14: FATICK | B14: 8.07
... A17: Ensemble | B17: 9.62
A19: Tableau 1.1-2 Répartition (%) des ménages selon le sexe du chef du ménage
A20: Region | B20: Masculin | C20: Féminin | D20: Total
A21: DAKAR | B21: 68.97 | C21: 31.03 | D21: 100
A22: ZIGUINCHOR | B22: 78.92 | C22: 21.08 | D22: 100
A23: DIOURBEL | B23: 91.88 | C23: 8.12 | D23: 100
A24: SAINT-LOUIS | B24: 89.45 | C24: 10.55 | D24: 100
A25: TAMBACOUNDA | B25: 96.01 | C25: 3.99 | D25: 100
A26: KAOLACK | B26: 92.82 | C26: 7.18 | D26: 100
A27: THIES | B27: 91.5 | C27: 8.5 | D27: 100
A28: LOUGA | B28: 91.45 | C28: 8.55 | D28: 100
A29: FATICK | B29: 93.33 | C29: 6.67 | D29: 100
A30: KOLDA | B30: 97 | C30: 3 | D30: 100
A31: MATAM | B31: 85.57 | C31: 14.43 | D31: 100
A32: KAFFRINE | B32: 98.32 | C32: 1.68 | D32: 100
... A35: ENSEMBLE | B35: 90.69 | C35: 9.31 | D35: 100
A37: Tableau 1.1-3 Répartition (%) des chefs de ménage selon la classe d'age et le sexe
B38: Classe d’âge du CM
A39: Sexe du CM | B39: Moins de 30 ans | C39: 31-44 ans | D39: 45-54 ans | E39: 55-64 ans | F39: 65 ans et plus | G39: Total
A40: Masculin | B40: 4.05 | C40: 22.39 | D40: 27.21 | E40: 24.41 | F40: 21.94 | G40: 100
A41: Féminin | B41: 2.93 | C41: 15.31 | D41: 27.17 | E41: 30.48 | F41: 24.11 | G41: 100
A42: Total | B42: 3.93 | C42: 21.58 | D42: 27.21 | E42: 25.1 | F42: 22.19 | G42: 100
A44: Tableau 1.1-4 Répartition (%) des ménages selon la situation matrimoniale et le sexe du chef du ménage
B45: Statut matrimonial
A46: Sexe du CM | B46: Marié | C46: Célibataire | D46: Divorcé | E46: Veuf/Veuve | F46: Total
A47: Masculin | B47: 96.73 | C47: 1.36 | D47: 0.61 | E47: 1.3 | F47: 100
...

Sheet 2. Activités culturales
A1: Tableau 2.0 Répartition (%) des ménages selon le type d'activité agricole pratiqué, par département
A2: Département | B2: Cultures pluviales uniquement | C2: Cultures horticoles et autres uniquementet | D2: Elevage uniquement | E2: Cultures pluviales et Elevage | F2: Total
A3: DAKAR | B3: 0 | C3: 44.64 | D3: 55.36 | E3: 0 | F3: 100
A4: PIKINE | B4: 0 | C4: 54.64 | D4: 45.36 | E4: 0 | F4: 100
A5: RUFISQUE | B5: 5.8 | C5: 16.4 | D5: 57.6 | E5: 20.2 | F5: 100
A6: GUEDIAWAYE | B6: 0 | C6: 15.24 | D6: 84.76 | E6: 0 | F6: 100
A7: BIGNONA | B7: 0 | C7: 8.45 | D7: 5.99 | E7: 85.56 | F7: 100
A8: OUSSOUYE | B8: 1.87 | C8: 12.49 | D8: 20.79 | E8: 64.85 | F8: 100
A9: ZIGUINCHOR | B9: 23.07 | C9: 13.5 | D9: 46.74 | E9: 16.69 | F9: 100
A10: BAMBEY | B10: 8.9 | C10: 0.62 | D10: 0.66 | E10: 89.82 | F10: 100
A11: DIOURBEL | B11: 11.01 | C11: 3.26 | D11: 15.19 | E11: 70.54 | F11: 100
A12: MBACKE | B12: 27.28 | C12: 43.15 | D12: 3.02 | E12: 26.55 | F12: 100
A13: DAGANA | B13: 30 | C13: 18.28 | D13: 14.34 | E13: 37.38 | F13: 100
A14: PODOR | B14: 34.31 | C14: 15.91 | D14: 4.4 | E14: 45.39 | F14: 100
... A48: SENEGAL | B48: 18.02 | C48: 9.94 | D48: 15.57 | E48: 56.47 | F48: 100
A50: Tableau 2.1 Répartition (%) des ménages selon le type d'activité agricole pratiqué, par région
A51: REGION | B51: Activité pluviale uniquement | C51: Activités horticoles et autres | D51: Elevage uniquement | E51: Activité pluviale et élevage | F51: Total
A52: DAKAR | B52: 1.2 | C52: 36.9 | D52: 57.8 | E52: 4.1 | F52: 100
A53: ZIGUINCHOR | B53: 6.8 | C53: 10.3 | D53: 19 | E53: 64 | F53: 100
A54: DIOURBEL | B54: 14.2 | C54: 12.4 | D54: 4.7 | E54: 68.7 | F54: 100
A55: SAINT-LOUIS | B55: 23.8 | C55: 20.2 | D55: 23.6 | E55: 32.4 | F55: 100
A56: TAMBACOUNDA | B56: 24.5 | C56: 5.2 | D56: 8.8 | E56: 61.5 | F56: 100
A57: KAOLACK | B57: 23.3 | C57: 2.1 | D57: 11 | E57: 63.6 | F57: 100
A58: THIES | B58: 20.7 | C58: 7 | D58: 26.2 | E58: 46 | F58: 100
A59: LOUGA | B59: 8.2 | C59: 2.3 | D59: 20.3 | E59: 69.2 | F59: 100
A60: FATICK | B60: 26.7 | C60: 8.9 | D60: 4.9 | E60: 59.6 | F60: 100
A61: KOLDA | B61: 18.4 | C61: 2.2 | D61: 6.4 | E61: 73 | F61: 100
A62: MATAM | B62: 27.6 | C62: 12.9 | D62: 12.6 | E62: 46.9 | F62: 100
A63: KAFFRINE | B63: 9 | C63: 5.8 | D63: 2.1 | E63: 83.1 | F63: 100
... A66: SENEGAL | B66: 18 | C66: 9.9 | D66: 15.6 | E66: 56.5 | F66: 100
A68: Tableau 2.1.1 Effectifs des parcelles exploitées selon les régions
A69: Région | B69: Effectifs de parcelles | C69: Pourcentage
A70: KAFFRINE | B70: 254201 | C70: 15.23
A71: DIOURBEL | B71: 235918 | C71: 14.13
A72: FATICK | B72: 177832 | C72: 10.65
A73: KAOLACK | B73: 177702 | C73: 10.65
A74: KOLDA | B74: 157602 | C74: 9.44
A75: THIES | B75: 136372 | C75: 8.17
A76: LOUGA | B76: 131210 | C76: 7.86
A77: SEDHIOU | B77: 121087 | C77: 7.25
...

Sheet 3.1 Semences utilisées
A1: Tableau 3.1.0 Répartition des parcelles d'arachide selon la variété
A2: Variété d'arachide | B2: Effectifs de parcelle | C2: Pourcentage
A3: 55437 | B3: 236332 | C3: 35.58
A4: 7333 | B4: 156196 | C4: 23.52
A5: 7330 | B5: 10482 | C5: 1.58
A6: 69101 | B6: 85457 | C6: 12.87
A7: Fleur 11 | B7: 40612 | C7: 6.11
A8: 28206 | B8: 16063 | C8: 2.42
A9: GH119 | B9: 1365 | C9: 0.21
A10: traditionnelle | B10: 27279 | C10: 4.11
A11: Ne sait pas | B11: 36207 | C11: 5.45
A12: Tout venant | B12: 54161 | C12: 8.15
A13: Total | B13: 664154 | C13: 100
A15: Tableau 3.1.0bis Carte variétale de l'arachide au Sénégal
B16: Variété d'arachide
A17: REGION | B17: 55437 | C17: 7333 | D17: 7330 | E17: 69101 | F17: Fleur 11 | G17: 28206 | H17: GH119 | I17: Traditionnelle | J17: Ne sait pas | K17: Tout venant | L17: Total
A18: DAKAR | B18: 0 | C18: 0 | D18: 0 | E18: 0 | F18: 68.59 | G18: 0 | H18: 0 | I18: 7.87 | J18: 13.94 | K18: 9.6 | L18: 100
A19: ZIGUINCHOR | B19: 41.08 | C19: 0 | D19: 3.44 | E19: 32.5 | F19: 0.78 | G19: 0.3 | H19: 0.29 | I19: 10.01 | J19: 2.27 | K19: 9.33 | L19: 100
A20: DIOURBEL | B20: 89.1 | C20: 0.58 | D20: 0 | E20: 0 | F20: 0.23 | G20: 0 | H20: 0 | I20: 0 | J20: 2.07 | K20: 8.02 | L20: 100
A21: SAINT-LOUIS | B21: 23.11 | C21: 0 | D21: 0 | E21: 0 | F21: 0 | G21: 0 | H21: 0 | I21: 0 | J21: 49.79 | K21: 27.09 | L21: 100
A22: TAMBACOUNDA | B22: 23.54 | C22: 40.33 | D22: 0.29 | E22: 0 | F22: 9.04 | G22: 0 | H22: 0.17 | I22: 1.59 | J22: 19.71 | K22: 5.32 | L22: 100
A23: KAOLACK | B23: 15.46 | C23: 50.66 | D23: 6.1 | E23: 1.14 | F23: 0.06 | G23: 13.98 | H23: 1.01 | I23: 0.79 | J23: 5.02 | K23: 5.78 | L23: 100
A24: THIES | B24: 54.8 | C24: 3.22 | D24: 2.73 | E24: 0 | F24: 18.01 | G24: 0 | H24: 0 | I24: 2.27 | J24: 0.83 | K24: 18.13 | L24: 100
A25: LOUGA | B25: 65.1 | C25: 0 | D25: 0 | E25: 0 | F25: 22.21 | G25: 0 | H25: 0 | I25: 0 | J25: 7.92 | K25: 4.77 | L25: 100
A26: FATICK | B26: 31.53 | C26: 26.26 | D26: 0.01 | E26: 0 | F26: 0 | G26: 3.72 | H26: 0 | I26: 0.89 | J26: 13.32 | K26: 24.26 | L26: 100
A27: KOLDA | B27: 3.84 | C27: 0 | D27: 0.28 | E27: 88.93 | F27: 0 | G27: 0 | H27: 0 | I27: 1.39 | J27: 3.35 | K27: 2.2 | L27: 100
A28: MATAM | B28: 0 | C28: 18.11 | D28: 26.38 | E28: 0 | F28: 0.83 | G28: 0 | H28: 0 | I28: 3.72 | J28: 42.36 | K28: 8.61 | L28: 100
A29: KAFFRINE | B29: 17.79 | C29: 54.46 | D29: 1.63 | E29: 0 | F29: 11.01 | G29: 0 | H29: 0.24 | I29: 13.65 | J29: 0.33 | K29: 0.89 | L29: 100
... A32: Total | B32: 35.58 | C32: 23.52 | D32: 1.58 | E32: 12.87 | F32: 6.11 | G32: 2.42 | H32: 0.21 | I32: 4.11 | J32: 5.45 | K32: 8.15 | L32: 100
A34: Tableau 3.1.00 Répartition des parcelles de riz selon la variété
A35: Variété de riz | B35: Effectifs de parcelles | C35: Pourcentage
A36: Traditionnelle | B36: 86604 | C36: 65.49
A37: Améliorée | B37: 45632 | C37: 34.51
A38: Total | B38: 132236 | C38: 100
A40: Tableau 3.1.00bis Répartition des parcelles de riz selon la variété par région
A41: REGION | B41: Traditionnelle | C41: Améliorée | D41: Total
A42: ZIGUINCHOR | B42: 71.37 | C42: 28.63 | D42: 100
A43: SAINT-LOUIS | B43: 15.49 | C43: 84.51 | D43: 100
A44: TAMBACOUNDA | B44: 0 | C44: 100 | D44: 100
A45: KAOLACK | B45: 25.43 | C45: 74.57 | D45: 100
...

Sheet 3.2-3.5 Autr Intrants&Materiels
A1: Tableau 3.2.1 Proportion des ménages utilisant des matières organiques; par type de matière organique et selon la région
A2: Région | B2: Compost | C2: Fumier | D2: Fertilisant bio | E2: Paillis | F2: Toute matière organique confondue
A3: DAKAR | B3: 0.9% | C3: 27.2% | D3: 0.0% | E3: 0.0% | F3: 0.2720887
A4: ZIGUINCHOR | B4: 5.0% | C4: 42.1% | D4: 1.0% | E4: 3.4% | F4: 0.4441792
A5: DIOURBEL | B5: 3.0% | C5: 87.4% | D5: 1.5% | E5: 0.5% | F5: 0.8824309
A6: SAINT-LOUIS | B6: 0.3% | C6: 8.1% | D6: 0.0% | E6: 0.0% | F6: 0.0838731
A7: TAMBACOUNDA | B7: 7.3% | C7: 37.5% | D7: 0.0% | E7: 0.0% | F7: 0.4308057
A8: KAOLACK | B8: 4.7% | C8: 81.1% | D8: 0.7% | E8: 0.0% | F8: 0.8111128
A9: THIES | B9: 0.7% | C9: 64.3% | D9: 0.0% | E9: 0.0% | F9: 0.6428088
A10: LOUGA | B10: 2.4% | C10: 51.0% | D10: 2.1% | E10: 0.1% | F10: 0.5158949
A11: FATICK | B11: 6.3% | C11: 71.7% | D11: 0.0% | E11: 0.5% | F11: 0.7476622
A12: KOLDA | B12: 8.0% | C12: 34.5% | D12: 0.0% | E12: 0.4% | F12: 0.3533467
A13: MATAM | B13: 0.0% | C13: 19.8% | D13: 0.0% | E13: 0.0% | F13: 0.1977614
A14: KAFFRINE | B14: 5.3% | C14: 69.4% | D14: 1.4% | E14: 1.5% | F14: 0.693807
... A17: SENEGAL | B17: 4.2% | C17: 53.6% | D17: 0.7% | E17: 1.2% | F17: 0.5485532
A19: Tableau 3.2.1bis Proportion des ménages utilisant des matières organiques; par type de matière organique et selon le département
A20: DEPARTEMENT | B20: Compost | C20: Fumier | D20: Fertilisant bio | E20: Paillis | F20: Toute matière organique confondue | T20: Pourcentage des ménages ayant utilisé des matières organiques | Y20: Pourcentage des ménages ayant utilisé des matières minérales
A21: RUFISQUE | B21: 0.0088725 | C21: 0.2720887 | D21: 0 | E21: 0 | F21: 0.2720887 | T21: DEPARTEMENT | U21: Oui | V21: Non | W21: Total | Y21: DEPARTEMENT | Z21: Oui | AA21: Non | AB21: Total
A22: BIGNONA | B22: 0.0212279 | C22: 0.4659056 | D22: 0 | E22: 0.0434102 | F22: 0.4801466 | T22: RUFISQUE | U22: 26.32 | V22: 73.68 | W22: 100 | Y22: RUFISQUE | Z22: 32.5 | AA22: 67.5 | AB22: 100
A23: OUSSOUYE | B23: 0.2204709 | C23: 0.4847247 | D23: 0 | E23: 0 | F23: 0.5041837 | T23: BIGNONA | U23: 36.24 | V23: 63.76 | W23: 100 | Y23: BIGNONA | Z23: 15.46 | AA23: 84.54 | AB23: 100
A24: ZIGUINCHOR | B24: 0.0324424 | C24: 0.1682636 | D24: 0.0657253 | E24: 0.0200034 | F24: 0.2339889 | T24: OUSSOUYE | U24: 35.82 | V24: 64.18 | W24: 100 | Y24: OUSSOUYE | Z24: 2.65 | AA24: 97.35 | AB24: 100
A25: BAMBEY | B25: 0.013841 | C25: 0.8912786 | D25: 0.0162336 | E25: 0 | F25: 0.9051196 | T25: ZIGUINCHOR | U25: 22.15 | V25: 77.85 | W25: 100 | Y25: ZIGUINCHOR | Z25: 0.47 | AA25: 99.53 | AB25: 100
A26: DIOURBEL | B26: 0.0912878 | C26: 0.9028651 | D26: 0.0200994 | E26: 0.023096 | F26: 0.9028651 | T26: BAMBEY | U26: 54.85 | V26: 45.15 | W26: 100 | Y26: BAMBEY | Z26: 20.23 | AA26: 79.77 | AB26: 100
A27: MBACKE | B27: 0.0132654 | C27: 0.7884818 | D27: 0.0077651 | E27: 0 | F27: 0.7884818 | T27: DIOURBEL | U27: 85.89 | V27: 14.11 | W27: 100 | Y27: DIOURBEL | Z27: 10.17 | AA27: 89.83 | AB27: 100
A28: DAGANA | B28: 0.0090786 | C28: 0.0326511 | D28: 0 | E28: 0 | F28: 0.0417297 | T28: MBACKE | U28: 60.62 | V28: 39.38 | W28: 100 | Y28: MBACKE | Z28: 8.43 | AA28: 91.57 | AB28: 100
A29: PODOR | B29: 0 | C29: 0.0961729 | D29: 0 | E29: 0 | F29: 0.0961729 | T29: DAGANA | U29: 2.78 | V29: 97.22 | W29: 100 | Y29: DAGANA | Z29: 49.26 | AA29: 50.74 | AB29: 100
A30: SAINT LOUIS | B30: 0 | C30: 0.2755906 | D30: 0 | E30: 0 | F30: 0.2755906 | T30: PODOR | U30: 9.62 | V30: 90.38 | W30: 100 | Y30: PODOR | Z30: 44.91 | AA30: 55.09 | AB30: 100
A31: BAKEL | B31: 0.2406153 | C31: 0.1251291 | D31: 0 | E31: 0 | F31: 0.3454253 | T31: SAINT LOUIS | U31: 25.59 | V31: 74.41 | W31: 100 | Y31: SAINT LOUIS | Z31: 12.76 | AA31: 87.24 | AB31: 100
A32: TAMBACOUNDA | B32: 0.0012091 | C32: 0.6337661 | D32: 0 | E32: 0 | F32: 0.6349752 | T32: BAKEL | U32: 30.58 | V32: 69.42 | W32: 100 | Y32: BAKEL | Z32: 6.22 | AA32: 93.78 | AB32: 100
A33: GOUDIRY | B33: 0 | C33: 0.153412 | D33: 0 | E33: 0 | F33: 0.153412 | T33: TAMBACOUNDA | U33: 52.07 | V33: 47.93 | W33: 100 | Y33: TAMBACOUNDA | Z33: 21.85 | AA33: 78.15 | AB33: 100
... A62: GOUDOMP | B62: 0.2300955 | C62: 0.3002588 | D62: 0 | E62: 0 | F62: 0.319168 | T62: Total | U62: 42.21 | V62: 57.79 | W62: 100 | Y62: Total | Z62: 25.85 | AA62: 74.15 | AB62: 100
A63: SENEGAL | B63: 0.0416919 | C63: 0.5355277 | D63: 0.0067901 | E63: 0.0115465 | F63: 0.5485532
A65: Tableau 3.2.2 Proportion des parcelles sur lesquelles des matières organiques ont été utilisées, par type de matière organique et par principale culture
A66: Type de culture | B66: Compost | C66: Fumier | D66: Fertilisant bio | E66: Paillis | F66: Toute matière organique confondue
A67: Mil | B67: 0.0183725 | C67: 0.6019668 | D67: 0.0029697 | E67: 0.0048851 | F67: 0.6091268
A68: Pastèque | B68: 0.0059015 | C68: 0.5464617 | D68: 0.0453487 | E68: 0.0435885 | F68: 0.5619403
A69: Manioc | B69: 0.0504914 | C69: 0.5505528 | D69: 0 | E69: 0.0028256 | F69: 0.5516585
A70: Mais | B70: 0.0322067 | C70: 0.5186671 | D70: 0.0028975 | E70: 0.0160427 | F70: 0.5379638
A71: Total | B71: 0.0221955 | C71: 0.4118977 | D71: 0.0025441 | E71: 0.0084554 | F71: 0.4240438
A72: Arachide | B72: 0.0192245 | C72: 0.3443463 | D72: 0.0006625 | E72: 0.0043665 | F72: 0.354615
...

Sheet 4.1 Prod&Util_Pluvial
A1: Tableau 4.1.1 Proportion des ménages ayant pratiqué une culture pluviale pendant la campagne agricole de référence
A3: Région | B3: Proportion par région | C3: Moyenne nationale
A4: KAFFRINE | B4: 97.1 | C4: 76.2
A5: SEDHIOU | B5: 91.6 | C5: 76.2
A6: KOLDA | B6: 91.1 | C6: 76.2
A7: FATICK | B7: 90 | C7: 76.2
A8: TAMBACOUNDA | B8: 87.9 | C8: 76.2
A9: KEDOUGOU | B9: 87.6 | C9: 76.2
A10: KAOLACK | B10: 87.3 | C10: 76.2
A11: DIOURBEL | B11: 83.1 | C11: 76.2
A12: LOUGA | B12: 78.7 | C12: 76.2
A13: MATAM | B13: 76.7 | C13: 76.2
A14: ZIGUINCHOR | B14: 71.4 | C14: 76.2
A15: THIES | B15: 65.8 | C15: 76.2
... A17: DAKAR | B17: 5 | C17: 76.2
A18: SENEGAL | B18: 76.2
A20: Tableau 4.1.2 Production moyenne (en Kg) par ménage des cultures pluviales selon le sexe du Chef de ménage
A21: Culture | B21: Masculin | C21: Féminin | D21: Ensemble
A22: Arachide | B22: 2214 | C22: 866 | D22: 2149
A23: Béréf | B23: 355 | C23: 139 | D23: 328
A24: Coton | B24: 713 | C24: 1000 | D24: 714
A25: Fonio | B25: 191 | C25: 138 | D25: 167
A26: Mais | B26: 1544 | C26: 1995 | D26: 1560
A27: Manioc | B27: 831 | C27: 569 | D27: 820
A28: Mil | B28: 1554 | C28: 1030 | D28: 1529
A29: Niébé | B29: 746 | C29: 259 | D29: 703
A30: Riz irrigué | B30: 6541 | C30: 18035 | D30: 8257
A31: Riz pluvial | B31: 742 | C31: 655 | D31: 734
A32: Sésame | B32: 324 | C32: 452 | D32: 333
A33: Sorgho | B33: 970 | C33: 443 | D33: 961
A35: Tableau 4.1.3 Production moyenne par ménage (en Kg) des cultures pluviales selon les régions
A36: Région | B36: Arachide | C36: Mil | D36: Mais | E36: Sorgho | F36: Niébé | G36: Sésame | H36: Riz pluvial | I36: Riz irrigué | J36: Manioc | K36: Béréf
A37: DAKAR | B37: 1435 | C37: - | D37: - | E37: - | F37: 756 | G37: - | H37: - | I37: - | J37: - | K37: -
A38: ZIGUINCHOR | B38: 959 | C38: 282 | D38: 157 | E38: 222 | F38: 71 | G38: 49 | H38: 987 | I38: - | J38: 551 | K38: -
A39: DIOURBEL | B39: 778 | C39: 957 | D39: 128 | E39: 315 | F39: 379 | G39: 360 | H39: - | I39: - | J39: - | K39: -
A40: SAINT-LOUIS | B40: 425 | C40: 192 | D40: - | E40: - | F40: 276 | G40: - | H40: - | I40: 9841 | J40: - | K40: 339
A41: TAMBACOUNDA | B41: 1306 | C41: 851 | D41: 1023 | E41: 1529 | F41: 329 | G41: 414 | H41: 3000 | I41: - | J41: - | K41: -
A42: KAOLACK | B42: 1541 | C42: 1546 | D42: 1343 | E42: 221 | F42: 360 | G42: 580 | H42: 98 | I42: - | J42: 240 | K42: -
A43: THIES | B43: 577 | C43: 602 | D43: 195 | E43: 783 | F43: 107 | G43: - | H43: - | I43: - | J43: 1153 | K43: -
A44: LOUGA | B44: 3683 | C44: 4915 | D44: 550 | E44: 113 | F44: 1942 | G44: - | H44: - | I44: - | J44: 7212 | K44: 387
...

Sheet 4.2 Prod&Util_Maraichage
A1: Tableau 4.2.1 Proportion des ménages ayant pratiqué une culture maraichère durant les 12 derniers mois
A2: Région | B2: Moyenne par région | C2: Moyenne nationale
A3: SEDHIOU | B3: 36.7 | C3: 14
A4: ZIGUINCHOR | B4: 29 | C4: 14
A5: KEDOUGOU | B5: 23.3 | C5: 14
A6: KOLDA | B6: 21.5 | C6: 14
A7: SAINT-LOUIS | B7: 20.9 | C7: 14
A8: THIES | B8: 15.8 | C8: 14
A9: KAOLACK | B9: 14.9 | C9: 14
A10: MATAM | B10: 14.3 | C10: 14
A11: FATICK | B11: 12.2 | C11: 14
A12: KAFFRINE | B12: 9.8 | C12: 14
A13: TAMBACOUNDA | B13: 7.2 | C13: 14
A14: LOUGA | B14: 6.6 | C14: 14
... A16: DIOURBEL | B16: 3 | C16: 14
A17: Total | B17: 14
F18: 1607769 | G18: 1000
A19: Tableau 4.2.2 Production moyenne (en Kg) par ménage des cultures maraichères
A20: Culture | B20: Statistique | C20: Masculin | D20: Féminin | E20: Ensemble
A21: Aubergine | B21: Moyenne | C21: 391 | D21: 20 | E21: 373
B22: N | C22: 75 | D22: 5 | E22: 80
A23: Diakhatou | B23: Moyenne | C23: 76 | D23: 32 | E23: 73
B24: N | C24: 179 | D24: 16 | E24: 195
A25: Gombo | B25: Moyenne | C25: 103 | D25: 51 | E25: 97
B26: N | C26: 346 | D26: 40 | E26: 386
A27: Patate douce | B27: Moyenne | C27: 47 | D27: 32 | E27: 43
B28: N | C28: 20 | D28: 6 | E28: 26
A29: Piment | B29: Moyenne | C29: 186 | D29: 97 | E29: 177
B30: N | C30: 145 | D30: 11 | E30: 156
A31: Tomate cérise | B31: Moyenne | C31: 81 | D31: 79 | E31: 81
B32: N | C32: 93 | D32: 6 | E32: 99
A33: Tomate industrielle | B33: Moyenne | C33: 179 | E33: 179
B34: N | C34: 47 | E34: 47
A35: Choux | B35: Moyenne | C35: 194 | D35: 172 | E35: 192
B36: N | C36: 63 | D36: 7 | E36: 70
A37: Oignon | B37: Moyenne | C37: 635 | D37: 195 | E37: 588
B38: N | C38: 221 | D38: 21 | E38: 242
A39: Pomme de terre | B39: Moyenne | C39: 1665 | E39: 1665
B40: N | C40: 18 | E40: 18
A41: Carotte | B41: Moyenne | C41: 243 | D41: 35 | E41: 242
...

Sheet 4.3 Prod&Util_Fruitier
A1: Tableau 4.3.1 Proportion (en %) des ménages ayant pratiqué une culture fruitière pendant la campagne agricole de référence
A2: Région | B2: Proportion par région | C2: Moyenne nationale
A3: ZIGUINCHOR | B3: 60.25 | C3: 15.31
A4: SEDHIOU | B4: 46.79 | C4: 15.31
A5: KOLDA | B5: 37.6 | C5: 15.31
A6: KAOLACK | B6: 20.39 | C6: 15.31
A7: FATICK | B7: 14.6 | C7: 15.31
A8: THIES | B8: 14.5 | C8: 15.31
A9: TAMBACOUNDA | B9: 10.53 | C9: 15.31
A10: KEDOUGOU | B10: 9.32 | C10: 15.31
A11: KAFFRINE | B11: 6.36 | C11: 15.31
A12: SAINT-LOUIS | B12: 5.81 | C12: 15.31
A13: LOUGA | B13: 4.84 | C13: 15.31
A14: DAKAR | B14: 2.33 | C14: 15.31
... A16: MATAM | B16: 1.47 | C16: 15.31
A18: Tableau 4.3.2 Répartition des parcelles homogènes de cultures arboricoles (en %) selon les cultures pratiquées
A20: Produit | B20: Nombre de parcelles homogènes | C20: Proportion
A21: Anacarde | B21: 31100 | C21: 0.549
A22: Banane | B22: 13137 | C22: 0.232
A23: Mangue | B23: 5712 | C23: 0.101
A24: Mandarine | B24: 2928 | C24: 0.052
A25: Orange | B25: 1795 | C25: 0.032
A26: Citron | B26: 1471 | C26: 0.026
A27: Papaye | B27: 542 | C27: 0.01
A28: Total | B28: 56685 | C28: 1
A30: Tableau 4.3.3 Répartition des parcelles hétérogènes de cultures arboricoles (en %) selon les cultures pratiquées
A31: Produit | B31: Nombre de parcelles hétérogènes | C31: Proportion
A32: Mangue | B32: 73520 | C32: 45.3
A33: Citron | B33: 28477 | C33: 17.6
A34: Orange | B34: 20673 | C34: 12.7
A35: Anacarde | B35: 18141 | C35: 11.2
A36: Autres cultures arboricoles | B36: 6024 | C36: 3.7
A37: Goyave | B37: 3586 | C37: 2.2
A38: Papaye | B38: 3543 | C38: 2.2
A39: Mandarine | B39: 2666 | C39: 1.6
A40: Banane | B40: 2365 | C40: 1.5
A41: Corossol | B41: 958 | C41: 0.6
A42: Sapotille | B42: 818 | C42: 0.5
A43: Pamplemousse | B43: 779 | C43: 0.5
... A45: Total | B45: 162207 | C45: 100
...

Sheet 5.1-5.2-5.3 Elevage_Stock&Flux
A1: Tableau 5.1.1 Proportion des ménages ayant pratiqué l’élevage pendant la campagne agricole de référence
A2: Région | B2: Proportion (%) des ménages ayant pratiqué l’élevage | C2: Ensemble
A3: LOUGA | B3: 89.7 | C3: 74
A4: ZIGUINCHOR | B4: 87.6 | C4: 74
A5: KAFFRINE | B5: 84.5 | C5: 74
A6: KOLDA | B6: 80.2 | C6: 74
A7: KAOLACK | B7: 75.5 | C7: 74
A8: DIOURBEL | B8: 74 | C8: 74
A9: THIES | B9: 73.7 | C9: 74
A10: FATICK | B10: 68.9 | C10: 74
A11: DAKAR | B11: 68.2 | C11: 74
A12: TAMBACOUNDA | B12: 67.4 | C12: 74
A13: SAINT-LOUIS | B13: 63.1 | C13: 74
A14: KEDOUGOU | B14: 62.3 | C14: 74
... A17: Ensemble | B17: 74 | C17: 74
A19: Tableau 5.1.2 Répartition (en % ménages) des raisons de pratique de l’élevage, par région
A20: Région | B20: Elevage naisseur | C20: Embouche | D20: Production laitière | E20: Production de miel | F20: Poussin d'un jour | G20: Poulets de chair | H20: Production d'œufs | I20: Traction
A21: DAKAR | B21: 0.99 | C21: 0.54 | D21: 0 | E21: 0 | F21: 0 | G21: 0.37 | H21: 0.01 | I21: 0
A22: ZIGUINCHOR | B22: 0.75 | C22: 0.31 | D22: 0 | E22: 0 | F22: 0.01 | G22: 0.29 | H22: 0 | I22: 0.04
A23: DIOURBEL | B23: 0.91 | C23: 0.15 | D23: 0.01 | E23: 0 | F23: 0.06 | G23: 0.01 | H23: 0.01 | I23: 0.67
A24: SAINT-LOUIS | B24: 0.94 | C24: 0.57 | D24: 0.05 | E24: 0 | F24: 0 | G24: 0.19 | H24: 0 | I24: 0.02
A25: TAMBACOUNDA | B25: 0.81 | C25: 0.45 | D25: 0.04 | E25: 0 | F25: 0 | G25: 0.03 | H25: 0 | I25: 0.49
A26: KAOLACK | B26: 0.97 | C26: 0.19 | D26: 0.02 | E26: 0 | F26: 0.02 | G26: 0.05 | H26: 0 | I26: 0.64
A27: THIES | B27: 0.74 | C27: 0.39 | D27: 0.03 | E27: 0 | F27: 0 | G27: 0.11 | H27: 0 | I27: 0.78
A28: LOUGA | B28: 0.87 | C28: 0.28 | D28: 0.01 | E28: 0 | F28: 0.01 | G28: 0.01 | H28: 0 | I28: 0.09
A29: FATICK | B29: 0.68 | C29: 0.14 | D29: 0.05 | E29: 0 | F29: 0 | G29: 0.02 | H29: 0.04 | I29: 0.68
A30: KOLDA | B30: 0.75 | C30: 0.19 | D30: 0.05 | E30: 0.03 | F30: 0.03 | G30: 0.02 | H30: 0.03 | I30: 0.75
A31: MATAM | B31: 0.97 | C31: 0.11 | D31: 0.01 | E31: 0 | F31: 0 | G31: 0 | H31: 0 | I31: 0.29
A32: KAFFRINE | B32: 0.79 | C32: 0.08 | D32: 0.01 | E32: 0 | F32: 0 | G32: 0 | H32: 0 | I32: 1.39
... A35: SENEGAL | B35: 0.84 | C35: 0.28 | D35: 0.02 | E35: 0 | F35: 0.01 | G35: 0.08 | H35: 0.01 | I35: 0.49
A37: Tableau 5.1.3 Nombre moyen d’animaux possédés par ménage, par espèce
A38: Espèce | B38: Moyenne | C38: N | D38: Std. Err. | E38: [95% Conf.Interval] | F38: [95% Conf.Interval]2
A39: Cailles | B39: 46.89241 | C39: 3 | D39: 16.79936 | E39: 13.96382 | F39: 79.821
A40: Poules | B40: 21.47865 | C40: 3039 | D40: 1.698742 | E40: 18.14892 | F40: 24.80837
A41: Bovins | B41: 15.80331 | C41: 1744 | D41: 0.7176775 | E41: 14.39659 | F41: 17.21004
A42: Lapins | B42: 15.17301 | C42: 15 | D42: 6.469701 | E42: 2.491688 | F42: 27.85434
A43: Ovins | B43: 14.1263 | C43: 3751 | D43: 0.6578925 | E43: 12.83676 | F43: 15.41585
A44: Caprins | B44: 11.6826 | C44: 3100 | D44: 0.4900238 | E44: 10.7221 | F44: 12.6431
A45: Porcins | B45: 11.30011 | C45: 158 | D45: 1.320158 | E45: 8.712458 | F45: 13.88777
A46: Canards | B46: 9.14999 | C46: 174 | D46: 0.8080272 | E46: 7.566167 | F46: 10.73381
...

Sheet 5.4 Elevage_Autres productions
A1: Tableau 5.4.1.1 Répartition des ménages selon l’activité de production de lait au cours des 12 derniers mois
A3: Région | B3: Moyenne régionale | C3: Moyenne nationale
A4: LOUGA | B4: 28.5 | C4: 16.5
A5: KOLDA | B5: 27.9 | C5: 16.5
A6: TAMBACOUNDA | B6: 26.9 | C6: 16.5
A7: KAOLACK | B7: 19.1 | C7: 16.5
A8: SAINT-LOUIS | B8: 17.8 | C8: 16.5
A9: KEDOUGOU | B9: 14.4 | C9: 16.5
A10: MATAM | B10: 14.3 | C10: 16.5
A11: FATICK | B11: 13.8 | C11: 16.5
A12: THIES | B12: 11.3 | C12: 16.5
A13: ZIGUINCHOR | B13: 11.2 | C13: 16.5
A14: DIOURBEL | B14: 10.8 | C14: 16.5
A15: KAFFRINE | B15: 10.7 | C15: 16.5
... A18: SENEGAL | B18: 16.5 | C18: 16.5
A20: Tableau 5.4.1.2 Quantité totale (en litres) de lait produit selon les espèces au cours des 12 derniers mois, par région
A21: Région | B21: Vaches | D21: Brebis | F21: Chèvres
A22: Région | B22: Quantité (en litre) | C22: % | D22: Quantité (en litre)2 | E22: %3 | F22: Quantité (en litre)4 | G22: %5
A23: DAKAR | B23: 113340 | C23: 0.001 | D23: 0 | E23: 0 | F23: 0 | G23: 0
A24: ZIGUINCHOR | B24: 2497788 | C24: 0.021 | D24: 1183170 | E24: 0.057 | F24: 285390 | G24: 0.041
A25: DIOURBEL | B25: 3746418 | C25: 0.031 | D25: 1114570 | E25: 0.053 | F25: 1486216 | G25: 0.216
A26: SAINT-LOUIS | B26: 13867581 | C26: 0.115 | D26: 9306 | E26: 0 | F26: 488100 | G26: 0.071
A27: TAMBACOUNDA | B27: 14170361 | C27: 0.118 | D27: 7200 | E27: 0 | F27: 310890 | G27: 0.045
A28: KAOLACK | B28: 12026985 | C28: 0.1 | D28: 43452 | E28: 0.002 | F28: 79440 | G28: 0.012
A29: THIES | B29: 6343362 | C29: 0.053 | D29: 12870 | E29: 0.001 | F29: 447565 | G29: 0.065
A30: LOUGA | B30: 17639835 | C30: 0.147 | D30: 17543489 | E30: 0.839 | F30: 3654010 | G30: 0.53
A31: FATICK | B31: 4252087 | C31: 0.035 | D31: 27018 | E31: 0.001 | F31: 5199 | G31: 0.001
A32: KOLDA | B32: 23536363 | C32: 0.196 | D32: 0 | E32: 0 | F32: 0 | G32: 0
A33: MATAM | B33: 10231818 | C33: 0.085 | D33: 926358 | E33: 0.044 | F33: 102832 | G33: 0.015
A34: KAFFRINE | B34: 4596447 | C34: 0.038 | D34: 26310 | E34: 0.001 | F34: 35053 | G34: 0.005
... A37: Total | B37: 120121693 | C37: 1 | D37: 20898783 | E37: 1 | F37: 6894695 | G37: 1
A39: Tableau 5.4.1.3 Répartition de la quantité de lait produite selon les principales utilisations, par type d’animaux
A41: Espèce | B41: Autoconsommation | C41: Transformation | D41: Consommation des jeunes animaux | E41: Vente | F41: Perte | G41: Total
A42: Vaches | B42: 33 | C42: 18.9 | D42: 15.7 | E42: 31.7 | F42: 0.7 | G42: 100
A43: Brebis | B43: 22 | C43: 17.8 | D43: 23.6 | E43: 36.1 | F43: 0.5 | G43: 100
A44: Chèvres | B44: 36.1 | C44: 11.5 | D44: 43.9 | E44: 7.7 | F44: 0.8 | G44: 99.9
A45: Ensemble | B45: 32.9 | C45: 17.8 | D45: 20.3 | E45: 28.4 | F45: 0.7 | G45: 100
A47: Tableau 5.4.1.4 Répartition (en % ménages) des principaux lieux de vente du lait produit, par type d’animaux
A48: Espèces | B48: Marché de gros | C48: Marché de détail | D48: Vente à l'exploitation | E48: Livraison directe au consommateur | F48: Contrat de commercialisation | G48: Autre lieu
A49: Vaches | B49: 0.244 | C49: 0.824 | D49: 0.166 | E49: 0.471 | F49: 0.101 | G49: 0.041
...

Sheet 6. Main doeuvre agricole
A1: 6.1. Main d’œuvre issue du ménage
A2: Tableau 6.1.1 Nombre moyen d'actifs membres du ménage par type d’activité
A3: Region | B3: Activité pluviale | C3: Activité horticole | D3: Activité arboricole | E3: Activité d'élevage
A4: SAINT-LOUIS | B4: 2.3 | C4: 1.6 | D4: 0.3 | E4: 3.7
A5: SEDHIOU | B5: 6.5 | C5: 1.3 | D5: 5.4 | E5: 3.1
A6: ZIGUINCHOR | B6: 3.6 | C6: 1.2 | D6: 1.9 | E6: 2.5
A7: KOLDA | B7: 7.5 | C7: 0.7 | D7: 1.3 | E7: 3.6
A8: THIES | B8: 5.1 | C8: 0.6 | D8: 0.5 | E8: 3.5
A9: LOUGA | B9: 4.2 | C9: 0.4 | D9: 0.2 | E9: 4.9
A10: KAFFRINE | B10: 9.2 | C10: 0.4 | D10: 0.1 | E10: 3.7
A11: KEDOUGOU | B11: 4.7 | C11: 0.4 | D11: 0.2 | E11: 2
A12: KAOLACK | B12: 5.4 | C12: 0.3 | D12: 0.3 | E12: 2.4
A13: MATAM | B13: 4.7 | C13: 0.3 | D13: 0.1 | E13: 2.4
A14: FATICK | B14: 4.6 | C14: 0.3 | D14: 0.3 | E14: 2.4
A15: TAMBACOUNDA | B15: 5.1 | C15: 0.2 | D15: 0.6 | E15: 2.6
... A18: Total | B18: 5.6 | C18: 0.5 | D18: 0.7 | E18: 3.4
A20: Tableau 6.1.2 Proportion moyenne par ménage des membres engagés dans les activités agricoles, par type d’activité
A21: Région | B21: Activité pluviale | C21: Activité horticole | D21: Activité arboricole | E21: Activité d'élevage
A22: SAINT-LOUIS | B22: 28.1 | C22: 14.2 | D22: 3.1 | E22: 42.7
A23: ZIGUINCHOR | B23: 42.2 | C23: 11.8 | D23: 21 | E23: 29
A24: SEDHIOU | B24: 49.3 | C24: 9.7 | D24: 31.3 | E24: 25.3
A25: THIES | B25: 44.9 | C25: 6.2 | D25: 5.3 | E25: 33.9
A26: KOLDA | B26: 60 | C26: 5.6 | D26: 13.5 | E26: 32.7
A27: Ensemble | B27: 49.5 | C27: 4.7 | D27: 6.1 | E27: 32.1
A28: KEDOUGOU | B28: 50 | C28: 4.4 | D28: 2.4 | E28: 22.5
A29: FATICK | B29: 50.9 | C29: 4.2 | D29: 3.4 | E29: 29.7
A30: LOUGA | B30: 46.3 | C30: 3.5 | D30: 1.8 | E30: 47.6
A31: KAFFRINE | B31: 68.5 | C31: 3 | D31: 0.8 | E31: 27.7
A32: MATAM | B32: 40.9 | C32: 2.7 | D32: 0.5 | E32: 24.6
A33: KAOLACK | B33: 48.2 | C33: 2.6 | D33: 3.2 | E33: 21.9
... A36: DIOURBEL | B36: 60.7 | C36: 0.8 | D36: 0.5 | E36: 38.7
A38: Tableau 6.1.3 Nombre moyen de jours travaillés par actif membre du ménage selon le type d’activité agricole et l’opération culturale
A39: Opération culturale | B39: Cultures pluviales | C39: Cultures horticoles | D39: Cultures permanentes
A40: Semis | B40: 8 | C40: 5 | D40: 9
A41: préparation des semences | B41: 9 | C41: 8
A42: Activités post-récoltes | B42: 12 | C42: 7 | D42: 15
A43: Préparation du sol | B43: 13 | D43: 12
A44: Récoltes | B44: 16 | C44: 10 | D44: 24
A45: Entretien des cultures | B45: 30 | C45: 36 | D45: 67
A46: Ensemble | B46: 88 | C46: 66 | D46: 128
...

Sheet 7.1 Pêche Aquaculture
A1: Tableau 7.1.1 Proportion des ménages ayant eu des activités de pêche ou d'aquaculture par région
A2: Région | B2: Proportion des ménages ayant eu des activités de pêche ou d'aquaculture
A3: ZIGUINCHOR | B3: 21.38
A4: SAINT-LOUIS | B4: 12.4
A5: DAKAR | B5: 8.47
A6: SEDHIOU | B6: 7.95
A7: FATICK | B7: 7.33
A8: KOLDA | B8: 5.91
A9: THIES | B9: 5.08
A10: MATAM | B10: 3.35
A11: DIOURBEL | B11: 2.03
A12: KAOLACK | B12: 1.93
A13: TAMBACOUNDA | B13: 1.24
A14: KEDOUGOU | B14: 1.22
... A17: Total | B17: 5.39
A19: Tableau 7.1.2 Proportion des ménages ayant eu des activités de pêche ou d’aquaculture selon le type de produit aquacole par région
A20: REGION | B20: Poisson d'eau douce | C20: Poisson de mer | D20: Crustacées | E20: Mollusques
A21: DAKAR | B21: 0 | C21: 100 | D21: 6.5 | E21: 11
A22: ZIGUINCHOR | B22: 8.4 | C22: 52 | D22: 9.5 | E22: 4.2
A23: DIOURBEL | B23: 93.4 | C23: 0 | D23: 0 | E23: 0
A24: SAINT-LOUIS | B24: 73.8 | C24: 23.6 | D24: 2.6 | E24: 0
A25: TAMBACOUNDA | B25: 82.7 | C25: 17.3 | D25: 0 | E25: 0
A26: KAOLACK | B26: 0 | C26: 73 | D26: 24.2 | E26: 2.7
A27: THIES | B27: 0 | C27: 98.8 | D27: 0 | E27: 1.2
A28: LOUGA | B28: 0 | C28: 100 | D28: 0 | E28: 0
A29: FATICK | B29: 58.1 | C29: 61.8 | D29: 26.6 | E29: 0
A30: KOLDA | B30: 86.8 | C30: 14.3 | D30: 0 | E30: 0
A31: MATAM | B31: 100 | C31: 2.7 | D31: 0 | E31: 0
A32: KAFFRINE | B32: 0 | C32: 0 | D32: 0 | E32: 0
... A35: Total | B35: 37.2 | C35: 52.9 | D35: 9.1 | E35: 2.2
A37: Tableau 7.1.3 Production moyenne (en Kg) de produits halieutiques par ménage et par région
A38: REGION | B38: Statistique | C38: Poisson d'eau douce | D38: Poisson de mer | E38: Crustacées | F38: Mollusques
A39: DAKAR | B39: Moyenne | D39: 184.6255 | E39: 225 | F39: 210.9251
B40: N | D40: 12 | E40: 1 | F40: 2
A41: ZIGUINCHOR | B41: Moyenne | C41: 23.12591 | D41: 263.3466 | E41: 153.2454 | F41: 1241.826
B42: N | C42: 13 | D42: 35 | E42: 10 | F42: 3
A43: DIOURBEL | B43: Moyenne | C43: 19.43787
B44: N | C44: 4
A45: SAINT-LOUIS | B45: Moyenne | C45: 71.60862 | D45: 262.9014 | E45: 19.83668
B46: N | C46: 43 | D46: 14 | E46: 4
...

Sheet 7.2 Agroforesterie
A1: Tableau 7.2.1 Proportion (en %) des ménages ayant eu une production forestière, par région
A2: Région | B2: Proportion des ménages ayant eu une production forestière
A3: KOLDA | B3: 53
A4: ZIGUINCHOR | B4: 37.5
A5: FATICK | B5: 27.8
A6: KAFFRINE | B6: 24.4
A7: SEDHIOU | B7: 17.5
A8: TAMBACOUNDA | B8: 16.6
A9: SAINT-LOUIS | B9: 15.8
A10: MATAM | B10: 13.1
A11: THIES | B11: 12.8
A12: KEDOUGOU | B12: 6
A13: KAOLACK | B13: 5.3
A14: DIOURBEL | B14: 2.7
... A17: Total | B17: 16.2
A19: Tableau 7.2.2 Répartition (% de ménages) des arbres forestiers exploités selon leurs fonctions, par région
A20: REGION | B20: Fertilisation du sol | C20: Bois de chauffe | D20: Médecine traditionnelle | E20: Nutrition | F20: Microclimat et ombrage | G20: Clôture
A21: DAKAR | B21: 86.1 | C21: 13.9 | D21: 67.2 | E21: 4.7 | F21: 67.2 | G21: 67.2
A22: ZIGUINCHOR | B22: 22.8 | C22: 16.6 | D22: 10.8 | E22: 25.9 | F22: 22.9 | G22: 19.6
A23: DIOURBEL | B23: 72 | C23: 55.9 | D23: 3.1 | E23: 35.6 | F23: 0.8 | G23: 23
A24: SAINT-LOUIS | B24: 2.8 | C24: 22.1 | D24: 1.4 | E24: 59.6 | F24: 31.8 | G24: 7.8
A25: TAMBACOUNDA | B25: 13.3 | C25: 37.4 | D25: 6.1 | E25: 45.9 | F25: 1.7 | G25: 16.6
A26: KAOLACK | B26: 57.3 | C26: 19.4 | D26: 0.5 | E26: 15.9 | F26: 30.5 | G26: 8.8
A27: THIES | B27: 92.6 | C27: 45.1 | D27: 30.9 | E27: 38.5 | F27: 2.2 | G27: 5.2
A28: LOUGA | B28: 21.3 | C28: 47.8 | D28: 8.2 | E28: 27.4 | F28: 9.7 | G28: 10.4
A29: FATICK | B29: 76.4 | C29: 35.6 | D29: 5.9 | E29: 31.1 | F29: 24.5 | G29: 11.3
A30: KOLDA | B30: 22.3 | C30: 52.8 | D30: 20.5 | E30: 24.3 | F30: 48.1 | G30: 18.8
A31: MATAM | B31: 0.7 | C31: 88 | D31: 0 | E31: 27.4 | F31: 0.2 | G31: 48.2
A32: KAFFRINE | B32: 8.7 | C32: 32.9 | D32: 12.9 | E32: 62.8 | F32: 17.2 | G32: 9.6
... A35: Total | B35: 38.9 | C35: 37.1 | D35: 11.9 | E35: 34.3 | F35: 23.1 | G35: 14
A37: Tableau 7.2.3 Répartition (en % de ménages) des principaux produits forestiers exploités, par région
A38: REGION | B38: Bois de chauffage | C38: Charbon de bois | D38: Bois d'œuvre | E38: Pain de singe (Bouye) | F38: Sideem (zuzuphus mauritiania) | G38: Laalo (feuille de baobab) | H38: Kinkéliba (Combretum) | I38: Madde (saba senegalensis) | J38: Nébédaye (Moringa) | K38: Dimb (Cordyla pinnata) | L38: Soumpe (balanites senegalensis)
A39: DAKAR | B39: 0 | C39: 0 | D39: 0 | E39: 0 | F39: 0 | G39: 100 | H39: 0 | I39: 0 | J39: 100 | K39: 0 | L39: 0
A40: ZIGUINCHOR | B40: 51.1 | C40: 25.1 | D40: 3.3 | E40: 19.3 | F40: 0 | G40: 0 | H40: 1.3 | I40: 34.9 | J40: 0 | K40: 0 | L40: 0
A41: DIOURBEL | B41: 73 | C41: 0 | D41: 3.3 | E41: 27.6 | F41: 0 | G41: 2.8 | H41: 0 | I41: 0 | J41: 0 | K41: 0 | L41: 11.2
A42: SAINT-LOUIS | B42: 33.2 | C42: 0 | D42: 5.9 | E42: 0 | F42: 53.2 | G42: 0 | H42: 0 | I42: 0 | J42: 0 | K42: 0 | L42: 48.2
A43: TAMBACOUNDA | B43: 35.4 | C43: 41 | D43: 6.5 | E43: 29.6 | F43: 12.8 | G43: 0 | H43: 0 | I43: 0 | J43: 0 | K43: 19.2 | L43: 0
A44: KAOLACK | B44: 89.5 | C44: 15.2 | D44: 0 | E44: 3.8 | F44: 6.1 | G44: 10.9 | H44: 0 | I44: 0 | J44: 25.8 | K44: 2.1 | L44: 0
A45: THIES | B45: 66.9 | C45: 0 | D45: 44.8 | E45: 20.1 | F45: 11.9 | G45: 6.4 | H45: 4.9 | I45: 0 | J45: 0 | K45: 0 | L45: 2.5
A46: LOUGA | B46: 61.4 | C46: 0.9 | D46: 0 | E46: 8.4 | F46: 29.7 | G46: 0 | H46: 0 | I46: 0 | J46: 0 | K46: 0 | L46: 4.6
...

Sheet 8. Chocs liés à la production
A1: 8.1 Les types de chocs liés à la production
A2: Tableau 8.1.1 Répartition des ménages ayant subis des chocs de production
A3: Région | B3: Proportion de ménages
A4: KOLDA | B4: 84.6
A5: KEDOUGOU | B5: 74
A6: KAFFRINE | B6: 73.5
A7: SAINT-LOUIS | B7: 71.1
A8: FATICK | B8: 69.3
A9: KAOLACK | B9: 66.4
A10: LOUGA | B10: 59.1
A11: ZIGUINCHOR | B11: 55.6
A12: SEDHIOU | B12: 54.3
A13: THIES | B13: 49.4
A14: MATAM | B14: 48.7
A15: DIOURBEL | B15: 48.5
... A18: Total | B18: 57.9
A20: Tableau 8.1.2 Répartition (en % de ménages) des principaux chocs liés à la production, par région
A21: REGION | B21: Sécheresse/pluies irrégulières | C21: Pandémie (Covid 19) | D21: Inondations | E21: Glissements de terrain | F21: Taux élevé et inhabituel de ravageurs de cultures | G21: Taux élevé et inhabituel de maladies dans le cheptel | H21: Prix de ventes de la récolte inhabituellement bas | I21: Prix d'achat des intrants agricoles inhabituellement élevés | J21: Prix d'achat de l'alimentation du bétail inhabituellement élevés | K21: Vols de biens agricoles/récoltes | L21: Vols d’animaux | M21: Feux de brousse/incendie | N21: maladie de plants | O21: Raréfaction des produits halieutiques | P21: Erosion du sol
A22: DAKAR | B22: 0.77639 | C22: 28.03623 | D22: 2.20593 | E22: 0 | F22: 0.48062 | G22: 0.88935 | H22: 0.03902 | I22: 0 | J22: 0.02876 | K22: 1.2529 | L22: 6.76977 | M22: 0 | N22: 0.48062 | O22: 0 | P22: 0.33068
A23: ZIGUINCHOR | B23: 1.13538 | C23: 42.68166 | D23: 8.4667 | E23: 0.75908 | F23: 13.91652 | G23: 2.58002 | H23: 10.68123 | I23: 7.22751 | J23: 4.41609 | K23: 1.66306 | L23: 6.94853 | M23: 0.10164 | N23: 1.89663 | O23: 0.38927 | P23: 1.50087
A24: DIOURBEL | B24: 0.70161 | C24: 40.24976 | D24: 8.18706 | E24: 0.2631 | F24: 4.01695 | G24: 5.88337 | H24: 9.36917 | I24: 13.59364 | J24: 4.29981 | K24: 0.44345 | L24: 16.1172 | M24: 0.65096 | N24: 1.72314 | O24: 0 | P24: 14.1606
A25: SAINT-LOUIS | B25: 2.76717 | C25: 62.40205 | D25: 6.75907 | E25: 0.42471 | F25: 3.88326 | G25: 4.39685 | H25: 4.50221 | I25: 2.02311 | J25: 6.12201 | K25: 0.65681 | L25: 3.92441 | M25: 0.05926 | N25: 3.96885 | O25: 1.74985 | P25: 0.12346
A26: TAMBACOUNDA | B26: 6.69428 | C26: 22.92329 | D26: 2.79791 | E26: 0 | F26: 4.48813 | G26: 12.87817 | H26: 0.12945 | I26: 6.16725 | J26: 1.16873 | K26: 0.2515 | L26: 11.14727 | M26: 0 | N26: 0.85065 | O26: 0.10726 | P26: 1.58481
A27: KAOLACK | B27: 3.95962 | C27: 49.57532 | D27: 27.99692 | E27: 0.0529 | F27: 6.76007 | G27: 4.82106 | H27: 6.26889 | I27: 23.53252 | J27: 6.23413 | K27: 3.17072 | L27: 7.85576 | M27: 0 | N27: 0.06347 | O27: 0.25994 | P27: 0.54558
A28: THIES | B28: 8.1245 | C28: 41.76795 | D28: 5.44314 | E28: 0.13156 | F28: 4.51385 | G28: 11.16924 | H28: 0.5889 | I28: 10.78395 | J28: 10.28484 | K28: 1.02222 | L28: 4.72581 | M28: 0.55235 | N28: 2.73566 | O28: 1.59024 | P28: 7.41135
A29: LOUGA | B29: 13.8676 | C29: 33.937 | D29: 0.11645 | E29: 0.00594 | F29: 21.83998 | G29: 13.89731 | H29: 6.66881 | I29: 15.4326 | J29: 5.0836 | K29: 1.99518 | L29: 11.28064 | M29: 0 | N29: 1.88704 | O29: 0.06655 | P29: 0.16161
A30: FATICK | B30: 2.56176 | C30: 56.62402 | D30: 21.24138 | E30: 1.62579 | F30: 4.41012 | G30: 1.19981 | H30: 1.59631 | I30: 5.05719 | J30: 4.16691 | K30: 3.74094 | L30: 9.29338 | M30: 0 | N30: 0.68834 | O30: 2.33919 | P30: 9.64124
A31: KOLDA | B31: 1.33475 | C31: 79.96663 | D31: 16.85987 | E31: 11.12463 | F31: 15.85881 | G31: 16.23594 | H31: 2.85372 | I31: 25.67128 | J31: 4.73418 | K31: 0.8655 | L31: 2.32017 | M31: 5.14781 | N31: 2.76334 | O31: 1.35039 | P31: 11.22195
A32: MATAM | B32: 9.32876 | C32: 9.5237 | D32: 10.90704 | E32: 3.23172 | F32: 16.81854 | G32: 15.79924 | H32: 0.85255 | I32: 5.20926 | J32: 5.79877 | K32: 0.64352 | L32: 10.18836 | M32: 0.8502 | N32: 1.95876 | O32: 0 | P32: 1.87421
A33: KAFFRINE | B33: 6.47921 | C33: 55.84539 | D33: 10.44514 | E33: 0.79319 | F33: 26.08903 | G33: 16.74116 | H33: 10.76021 | I33: 30.2473 | J33: 3.86151 | K33: 0.06411 | L33: 5.53948 | M33: 1.37571 | N33: 2.55541 | O33: 0.10258 | P33: 3.45118
... A36: Total | B36: 5.27723 | C36: 43.68895 | D36: 10.03802 | E36: 1.44802 | F36: 10.35813 | G36: 8.69884 | H36: 4.82126 | I36: 13.14446 | J36: 4.87531 | K36: 1.36312 | L36: 7.81268 | M36: 0.70204 | N36: 2.17881 | O36: 0.67526 | P36: 4.58296
A38: 8.2 Stratégies adoptées par les ménages
A39: Tableau 8.2.1 Proportion des ménages ayant adopté des stratégies d’adaptation aux chocs liés à la production
A40: Region | B40: Proportion de ménages
A41: KOLDA | B41: 98
A42: KEDOUGOU | B42: 97.9
A43: KAOLACK | B43: 97.7
A44: DIOURBEL | B44: 95.5
A45: SEDHIOU | B45: 94.2
A46: ZIGUINCHOR | B46: 92.8
...

Sheet 9.1 Acces_info agricole
A1: 9.1. Accès à l’information agricole
A2: Tableau 9.1.1 Répartition des ménages agricoles ayant utilisé des informations agricoles
A3: REGION | B3: Proportion des ménages
A4: KOLDA | B4: 87.5
A5: KAOLACK | B5: 83.5
A6: KAFFRINE | B6: 83.4
A7: FATICK | B7: 82.2
A8: LOUGA | B8: 79.8
A9: SEDHIOU | B9: 78.4
A10: KEDOUGOU | B10: 75.2
A11: ZIGUINCHOR | B11: 68.2
A12: TAMBACOUNDA | B12: 65
A13: THIES | B13: 60.1
A14: DIOURBEL | B14: 56.6
A15: SAINT-LOUIS | B15: 55.9
... A18: Total | B18: 67.3
A21: Tableau 9.1.2 Répartition (en % de ménages) des types d’information agricole utilisée par les ménages, par région
A22: REGION | B22: Rotation des cultures et autres pratiques d'agriculture durable | C22: Élevage des animaux | D22: Santé animale | E22: Nourriture des animaux | F22: Utilisation de fertilisants et/ou produits de protection des plantes | G22: Prix des intrants | H22: Prix de vente | I22: Types de cultures à produire | J22: Prévision météorologiques affectant les productions | K22: Disponibilités des intrants (incluant machines et équipements) | L22: Santé des plantes | M22: Autres informations environnementales
A23: DAKAR | B23: 3.3 | C23: 24.4 | D23: 14.5 | E23: 13.6 | F23: 2.3 | G23: 3.6 | H23: 6.4 | I23: 0.7 | J23: 0 | K23: 0.1 | L23: 0.9 | M23: 0.6
A24: ZIGUINCHOR | B24: 41.6 | C24: 19.2 | D24: 15.3 | E24: 18.3 | F24: 3.7 | G24: 9.5 | H24: 10.7 | I24: 19.4 | J24: 14.1 | K24: 1.4 | L24: 1 | M24: 1.7
A25: DIOURBEL | B25: 43.4 | C25: 17.9 | D25: 16.3 | E25: 11.5 | F25: 16.5 | G25: 14.4 | H25: 12.5 | I25: 3.7 | J25: 0.8 | K25: 5 | L25: 7.2 | M25: 0.4
A26: SAINT-LOUIS | B26: 18.4 | C26: 20 | D26: 15.9 | E26: 13.2 | F26: 7.8 | G26: 6.3 | H26: 6.1 | I26: 16 | J26: 2.7 | K26: 1.1 | L26: 9.7 | M26: 0.3
A27: TAMBACOUNDA | B27: 53.1 | C27: 24.4 | D27: 15.9 | E27: 18.8 | F27: 3.9 | G27: 11.4 | H27: 4.3 | I27: 4.1 | J27: 4.7 | K27: 3.6 | L27: 3.1 | M27: 0.1
A28: KAOLACK | B28: 57.1 | C28: 18.9 | D28: 2.9 | E28: 5.2 | F28: 19.8 | G28: 16.4 | H28: 9 | I28: 4.1 | J28: 13.3 | K28: 12.9 | L28: 0 | M28: 0
A29: THIES | B29: 53.2 | C29: 11.7 | D29: 9.9 | E29: 9.3 | F29: 10.3 | G29: 5.6 | H29: 4.8 | I29: 1.5 | J29: 2.3 | K29: 10.7 | L29: 1.8 | M29: 0.7
A30: LOUGA | B30: 48.1 | C30: 25.5 | D30: 32.2 | E30: 30.4 | F30: 20.4 | G30: 9.4 | H30: 11.3 | I30: 18 | J30: 1.5 | K30: 6.6 | L30: 15 | M30: 0
A31: FATICK | B31: 65.8 | C31: 7.6 | D31: 7.4 | E31: 6.9 | F31: 13.3 | G31: 20.2 | H31: 24.3 | I31: 5.5 | J31: 25.9 | K31: 14.3 | L31: 2.6 | M31: 2.1
A32: KOLDA | B32: 75.6 | C32: 25.2 | D32: 15.9 | E32: 9.1 | F32: 22.1 | G32: 7.6 | H32: 9.8 | I32: 14.9 | J32: 10.4 | K32: 8.1 | L32: 6.9 | M32: 2.1
A33: MATAM | B33: 11.1 | C33: 13.9 | D33: 11.2 | E33: 14.6 | F33: 1.4 | G33: 0.4 | H33: 1.6 | I33: 2.4 | J33: 0.4 | K33: 1.6 | L33: 0 | M33: 0.9
A34: KAFFRINE | B34: 68.9 | C34: 18.8 | D34: 28.3 | E34: 22.4 | F34: 26.6 | G34: 36.6 | H34: 32.3 | I34: 10.6 | J34: 32.9 | K34: 14.5 | L34: 12.1 | M34: 5
... A37: Total | B37: 47.2 | C37: 18.2 | D37: 15.4 | E37: 14.1 | F37: 13.2 | G37: 12.4 | H37: 11.3 | I37: 9 | J37: 8.8 | K37: 7.3 | L37: 5.5 | M37: 1.1
A40: Tableau 9.1.3 Répartition (en % de ménages) des principales sources d’information agricole identifiées par les ménages, par région
A41: REGION | B41: Gouvernement ou service de développement | C41: Autre exploitant | D41: Groupe ou association d'exploitants | E41: ONG ou projet non-gouvernemental | F41: Trader ou acteur du marché | G41: Total
A42: DAKAR | B42: 4.27 | C42: 87.16 | D42: 8.35 | E42: 0 | F42: 0.22 | G42: 100
A43: DIOURBEL | B43: 14.16 | C43: 71.95 | D43: 1.09 | E43: 0.13 | F43: 12.66 | G43: 100
A44: FATICK | B44: 37.73 | C44: 49.32 | D44: 6.77 | E44: 0.61 | F44: 5.58 | G44: 100
A45: THIES | B45: 46.78 | C45: 48.97 | D45: 1.42 | E45: 0.31 | F45: 2.52 | G45: 100
A46: KEDOUGOU | B46: 42.17 | C46: 47.14 | D46: 4.86 | E46: 0.92 | F46: 4.9 | G46: 100
A47: SAINT-LOUIS | B47: 24.63 | C47: 46.14 | D47: 12.4 | E47: 11.53 | F47: 5.31 | G47: 100
A48: SEDHIOU | B48: 50.72 | C48: 40.99 | D48: 2.32 | E48: 3.07 | F48: 2.89 | G48: 100
...

Sheet 9.2-9.3Accès_Infrast&Res.commu
A1: 9.2. Accès aux Infrastructures agricoles
A2: Tableau 9.2.1 Répartition des ménages disposant d’un moyen de transport, par région
A3: REGION | B3: Proportion de ménages
A4: FATICK | B4: 73.6
A5: KAFFRINE | B5: 56.2
A6: LOUGA | B6: 48.7
A7: SEDHIOU | B7: 47.9
A8: KAOLACK | B8: 47.3
A9: MATAM | B9: 46.4
A10: DIOURBEL | B10: 46.3
A11: KOLDA | B11: 46.3
A12: TAMBACOUNDA | B12: 44.5
A13: KEDOUGOU | B13: 42.8
A14: THIES | B14: 41.4
A15: SAINT-LOUIS | B15: 35.8
... A18: Total | B18: 44.1
A20: Tableau 9.2.2 Répartition (en % de ménages) des moyens de transport utilisés par les ménages, par région
A21: REGION | B21: Transport de passagers | C21: Transport d'animaux | D21: Transport d'aliments et produits végétaux | E21: Transport d'eau ou autre liquide
A22: FATICK | B22: 71 | C22: 58 | D22: 41 | E22: 28
A23: MATAM | B23: 80 | C23: 31 | D23: 37 | E23: 24
A24: SAINT-LOUIS | B24: 60 | C24: 43 | D24: 25 | E24: 18
A25: SEDHIOU | B25: 32 | C25: 16 | D25: 40 | E25: 17
A26: TAMBACOUNDA | B26: 44 | C26: 31 | D26: 49 | E26: 14
A27: DIOURBEL | B27: 47 | C27: 67 | D27: 15 | E27: 13
A28: Total | B28: 56 | C28: 40 | D28: 32 | E28: 12
A29: LOUGA | B29: 71 | C29: 37 | D29: 34 | E29: 8
A30: KAFFRINE | B30: 39 | C30: 61 | D30: 16 | E30: 8
A31: KEDOUGOU | B31: 9 | C31: 10 | D31: 3 | E31: 7
A32: KOLDA | B32: 20 | C32: 7 | D32: 35 | E32: 6
A33: DAKAR | B33: 78 | C33: 30 | D33: 50 | E33: 5
... A36: ZIGUINCHOR | B36: 71 | C36: 2 | D36: 11 | E36: 0
A39: Tableau 9.2.3 Répartition (en % de ménages) des types d’infrastructures de transport disponibles près de l’exploitation agricole, par région
A40: REGION | B40: Arrêt d'autobus | C40: Arrêt de motocyclette
A41: DAKAR | B41: 63.6 | C41: 0
A42: KAOLACK | B42: 47.6 | C42: 8.5
A43: SAINT-LOUIS | B43: 44.1 | C43: 10.1
A44: THIES | B44: 37.9 | C44: 10.5
A45: ZIGUINCHOR | B45: 35.4 | C45: 20.5
A46: SEDHIOU | B46: 32.1 | C46: 31.4
A47: LOUGA | B47: 27.4 | C47: 6.1
...

Sheet 10. Environnement_Climat
A1: Tableau 10.1.1 Répartition des ménages selon le défrichage de végétation dans une zone boisée
A2: REGION | B2: Proportion des ménages ayant défriché une végétation dans une zone protégée
A3: LOUGA | B3: 31.6
A4: KEDOUGOU | B4: 29.6
A5: FATICK | B5: 25.5
A6: SEDHIOU | B6: 21.4
A7: ZIGUINCHOR | B7: 13.3
A8: MATAM | B8: 9.7
A9: KOLDA | B9: 8.9
A10: DIOURBEL | B10: 8.2
A11: KAOLACK | B11: 7.3
A12: KAFFRINE | B12: 6.8
A13: TAMBACOUNDA | B13: 5.4
A14: THIES | B14: 4.2
... A17: Total | B17: 12.5
A19: Tableau 10.1.2 Répartition des (en % ménages) des usages finaux des produits issus du défrichage, par région
A20: REGION | B20: Charbon de bois | C20: Bois de chauffe | D20: Clôture
A21: DAKAR | B21: 0 | C21: 0 | D21: 100
A22: ZIGUINCHOR | B22: 13.3 | C22: 61.1 | D22: 25.6
A23: DIOURBEL | B23: 8.2 | C23: 72.9 | D23: 12.1
A24: SAINT-LOUIS | B24: 0 | C24: 0 | D24: 100
A25: TAMBACOUNDA | B25: 0 | C25: 19 | D25: 80.7
A26: KAOLACK | B26: 10.1 | C26: 55.3 | D26: 30.3
A27: THIES | B27: 27.9 | C27: 59.8 | D27: 12.3
A28: LOUGA | B28: 22.3 | C28: 43 | D28: 21.8
A29: FATICK | B29: 3.7 | C29: 45.7 | D29: 50.5
A30: KOLDA | B30: 4.5 | C30: 87.6 | D30: 1.2
A31: MATAM | B31: 11.1 | C31: 21.2 | D31: 66
A32: KAFFRINE | B32: 2.6 | C32: 93.7 | D32: 3.6
... A35: Total | B35: 11.4 | C35: 53.4 | D35: 30.3
A37: Tableau 10.1.3 Répartition (en % ménages) des méthodes d’élimination des animaux morts, par région
A38: Région | B38: Enterré sur l'exploitation | C38: Enterré hors de l'exploitation | D38: Incinéré | E38: Composté | F38: Collecté par un service spécialisé | G38: Abandonné dans la nature | H38: Donné à d'autres animaux | I38: Total
A39: DAKAR | B39: 8.5 | C39: 51.4 | D39: 0 | E39: 0 | F39: 8.4 | G39: 31.4 | H39: 0.3 | I39: 100
A40: ZIGUINCHOR | B40: 12.3 | C40: 60.1 | D40: 2.6 | E40: 1.5 | F40: 3.9 | G40: 19 | H40: 0.5 | I40: 100
A41: DIOURBEL | B41: 2 | C41: 16.2 | D41: 0.1 | E41: 0 | F41: 0.2 | G41: 81.5 | H41: 0 | I41: 100
A42: SAINT-LOUIS | B42: 13.6 | C42: 26.1 | D42: 0.2 | E42: 0 | F42: 0 | G42: 60.1 | H42: 0 | I42: 100
A43: TAMBACOUNDA | B43: 2.1 | C43: 19.3 | D43: 0.1 | E43: 0.1 | F43: 0 | G43: 78.5 | H43: 0 | I43: 100
A44: KAOLACK | B44: 13.7 | C44: 27.7 | D44: 0.5 | E44: 0 | F44: 0 | G44: 58 | H44: 0 | I44: 100
A45: THIES | B45: 8 | C45: 10.9 | D45: 4.5 | E45: 0 | F45: 1.1 | G45: 75.5 | H45: 0 | I45: 100
A46: LOUGA | B46: 15.5 | C46: 28.4 | D46: 1.2 | E46: 0 | F46: 0.1 | G46: 54.9 | H46: 0 | I46: 100
...
